BEGIN:VCALENDAR
VERSION:2.0
PRODID:-//Fargo Mom - ECPv6.15.20//NONSGML v1.0//EN
CALSCALE:GREGORIAN
METHOD:PUBLISH
X-ORIGINAL-URL:https://fargomom.com
X-WR-CALDESC:Events for Fargo Mom
REFRESH-INTERVAL;VALUE=DURATION:PT1H
X-Robots-Tag:noindex
X-PUBLISHED-TTL:PT1H
BEGIN:VTIMEZONE
TZID:America/Chicago
BEGIN:DAYLIGHT
TZOFFSETFROM:-0600
TZOFFSETTO:-0500
TZNAME:CDT
DTSTART:20250309T080000
END:DAYLIGHT
BEGIN:STANDARD
TZOFFSETFROM:-0500
TZOFFSETTO:-0600
TZNAME:CST
DTSTART:20251102T070000
END:STANDARD
BEGIN:DAYLIGHT
TZOFFSETFROM:-0600
TZOFFSETTO:-0500
TZNAME:CDT
DTSTART:20260308T080000
END:DAYLIGHT
BEGIN:STANDARD
TZOFFSETFROM:-0500
TZOFFSETTO:-0600
TZNAME:CST
DTSTART:20261101T070000
END:STANDARD
BEGIN:DAYLIGHT
TZOFFSETFROM:-0600
TZOFFSETTO:-0500
TZNAME:CDT
DTSTART:20270314T080000
END:DAYLIGHT
BEGIN:STANDARD
TZOFFSETFROM:-0500
TZOFFSETTO:-0600
TZNAME:CST
DTSTART:20271107T070000
END:STANDARD
END:VTIMEZONE
BEGIN:VEVENT
DTSTART;TZID=America/Chicago:20260419T193000
DTEND;TZID=America/Chicago:20260419T210000
DTSTAMP:20260422T152918
CREATED:20260312T014113Z
LAST-MODIFIED:20260312T014113Z
UID:10038046-1776627000-1776632400@fargomom.com
SUMMARY:The Shark is Broken
DESCRIPTION:A comedic\, behind-the-scenes look into the making of Jaws written by Joseph Nixon and Ian Shaw.\nThe historic first summer blockbuster movie is being filmed – but no one working on the film would know it. Dive deep into the tumultuous\, murky waters of the making of a major motion picture with dueling co-stars\, unpredictable weather and a shark prop whose constant breakdowns are looking like an omen for the future of the movie. The short tempers and short circuits of Jaws stars Robert Shaw\, Richard Dreyfuss\, and Roy Scheider take center stage as they bond\, argue\, drink\, gamble and pray for an end to the film shoot\, not knowing it will change their lives forever.\nThe Shark is Broken contains depictions of alcohol and smoking\, and includes some strong language and mild adult themes.\nPerformed at: Stage West Studio (300 Sheyenne St Suite 120\, West Fargo\, ND 58078). General Admission tickets; first-come\, first-served seating.\nApril 10-12\, 16-19\, & 23-25 at 7:30pm\n\n\n\n\n\n\n\nAttendance is limited to 60 people per performance. \n\nAdults – $25.00\nSeniors – $22.00\nStudents – $20.00\n\nAll seats are general admission; first-come\, first-served seating.
URL:https://fargomom.com/event/the-shark-is-broken/2026-04-19/
LOCATION:Stage West Studio\, 300 Sheyenne Street\, West Fargo\, North Dakota\, 58078
END:VEVENT
BEGIN:VEVENT
DTSTART;TZID=America/Chicago:20260418T193000
DTEND;TZID=America/Chicago:20260418T210000
DTSTAMP:20260422T152918
CREATED:20260312T014113Z
LAST-MODIFIED:20260312T014113Z
UID:10038045-1776540600-1776546000@fargomom.com
SUMMARY:The Shark is Broken
DESCRIPTION:A comedic\, behind-the-scenes look into the making of Jaws written by Joseph Nixon and Ian Shaw.\nThe historic first summer blockbuster movie is being filmed – but no one working on the film would know it. Dive deep into the tumultuous\, murky waters of the making of a major motion picture with dueling co-stars\, unpredictable weather and a shark prop whose constant breakdowns are looking like an omen for the future of the movie. The short tempers and short circuits of Jaws stars Robert Shaw\, Richard Dreyfuss\, and Roy Scheider take center stage as they bond\, argue\, drink\, gamble and pray for an end to the film shoot\, not knowing it will change their lives forever.\nThe Shark is Broken contains depictions of alcohol and smoking\, and includes some strong language and mild adult themes.\nPerformed at: Stage West Studio (300 Sheyenne St Suite 120\, West Fargo\, ND 58078). General Admission tickets; first-come\, first-served seating.\nApril 10-12\, 16-19\, & 23-25 at 7:30pm\n\n\n\n\n\n\n\nAttendance is limited to 60 people per performance. \n\nAdults – $25.00\nSeniors – $22.00\nStudents – $20.00\n\nAll seats are general admission; first-come\, first-served seating.
URL:https://fargomom.com/event/the-shark-is-broken/2026-04-18/
LOCATION:Stage West Studio\, 300 Sheyenne Street\, West Fargo\, North Dakota\, 58078
END:VEVENT
BEGIN:VEVENT
DTSTART;TZID=America/Chicago:20260417T193000
DTEND;TZID=America/Chicago:20260417T210000
DTSTAMP:20260422T152918
CREATED:20260312T014113Z
LAST-MODIFIED:20260312T014113Z
UID:10038044-1776454200-1776459600@fargomom.com
SUMMARY:The Shark is Broken
DESCRIPTION:A comedic\, behind-the-scenes look into the making of Jaws written by Joseph Nixon and Ian Shaw.\nThe historic first summer blockbuster movie is being filmed – but no one working on the film would know it. Dive deep into the tumultuous\, murky waters of the making of a major motion picture with dueling co-stars\, unpredictable weather and a shark prop whose constant breakdowns are looking like an omen for the future of the movie. The short tempers and short circuits of Jaws stars Robert Shaw\, Richard Dreyfuss\, and Roy Scheider take center stage as they bond\, argue\, drink\, gamble and pray for an end to the film shoot\, not knowing it will change their lives forever.\nThe Shark is Broken contains depictions of alcohol and smoking\, and includes some strong language and mild adult themes.\nPerformed at: Stage West Studio (300 Sheyenne St Suite 120\, West Fargo\, ND 58078). General Admission tickets; first-come\, first-served seating.\nApril 10-12\, 16-19\, & 23-25 at 7:30pm\n\n\n\n\n\n\n\nAttendance is limited to 60 people per performance. \n\nAdults – $25.00\nSeniors – $22.00\nStudents – $20.00\n\nAll seats are general admission; first-come\, first-served seating.
URL:https://fargomom.com/event/the-shark-is-broken/2026-04-17/
LOCATION:Stage West Studio\, 300 Sheyenne Street\, West Fargo\, North Dakota\, 58078
END:VEVENT
BEGIN:VEVENT
DTSTART;TZID=America/Chicago:20260416T193000
DTEND;TZID=America/Chicago:20260416T210000
DTSTAMP:20260422T152918
CREATED:20260312T014113Z
LAST-MODIFIED:20260312T014113Z
UID:10038043-1776367800-1776373200@fargomom.com
SUMMARY:The Shark is Broken
DESCRIPTION:A comedic\, behind-the-scenes look into the making of Jaws written by Joseph Nixon and Ian Shaw.\nThe historic first summer blockbuster movie is being filmed – but no one working on the film would know it. Dive deep into the tumultuous\, murky waters of the making of a major motion picture with dueling co-stars\, unpredictable weather and a shark prop whose constant breakdowns are looking like an omen for the future of the movie. The short tempers and short circuits of Jaws stars Robert Shaw\, Richard Dreyfuss\, and Roy Scheider take center stage as they bond\, argue\, drink\, gamble and pray for an end to the film shoot\, not knowing it will change their lives forever.\nThe Shark is Broken contains depictions of alcohol and smoking\, and includes some strong language and mild adult themes.\nPerformed at: Stage West Studio (300 Sheyenne St Suite 120\, West Fargo\, ND 58078). General Admission tickets; first-come\, first-served seating.\nApril 10-12\, 16-19\, & 23-25 at 7:30pm\n\n\n\n\n\n\n\nAttendance is limited to 60 people per performance. \n\nAdults – $25.00\nSeniors – $22.00\nStudents – $20.00\n\nAll seats are general admission; first-come\, first-served seating.
URL:https://fargomom.com/event/the-shark-is-broken/2026-04-16/
LOCATION:Stage West Studio\, 300 Sheyenne Street\, West Fargo\, North Dakota\, 58078
END:VEVENT
BEGIN:VEVENT
DTSTART;TZID=America/Chicago:20260412T193000
DTEND;TZID=America/Chicago:20260412T210000
DTSTAMP:20260422T152918
CREATED:20260312T014113Z
LAST-MODIFIED:20260312T014113Z
UID:10038042-1776022200-1776027600@fargomom.com
SUMMARY:The Shark is Broken
DESCRIPTION:A comedic\, behind-the-scenes look into the making of Jaws written by Joseph Nixon and Ian Shaw.\nThe historic first summer blockbuster movie is being filmed – but no one working on the film would know it. Dive deep into the tumultuous\, murky waters of the making of a major motion picture with dueling co-stars\, unpredictable weather and a shark prop whose constant breakdowns are looking like an omen for the future of the movie. The short tempers and short circuits of Jaws stars Robert Shaw\, Richard Dreyfuss\, and Roy Scheider take center stage as they bond\, argue\, drink\, gamble and pray for an end to the film shoot\, not knowing it will change their lives forever.\nThe Shark is Broken contains depictions of alcohol and smoking\, and includes some strong language and mild adult themes.\nPerformed at: Stage West Studio (300 Sheyenne St Suite 120\, West Fargo\, ND 58078). General Admission tickets; first-come\, first-served seating.\nApril 10-12\, 16-19\, & 23-25 at 7:30pm\n\n\n\n\n\n\n\nAttendance is limited to 60 people per performance. \n\nAdults – $25.00\nSeniors – $22.00\nStudents – $20.00\n\nAll seats are general admission; first-come\, first-served seating.
URL:https://fargomom.com/event/the-shark-is-broken/2026-04-12/
LOCATION:Stage West Studio\, 300 Sheyenne Street\, West Fargo\, North Dakota\, 58078
END:VEVENT
BEGIN:VEVENT
DTSTART;TZID=America/Chicago:20260411T193000
DTEND;TZID=America/Chicago:20260411T210000
DTSTAMP:20260422T152918
CREATED:20260312T014113Z
LAST-MODIFIED:20260312T014113Z
UID:10038041-1775935800-1775941200@fargomom.com
SUMMARY:The Shark is Broken
DESCRIPTION:A comedic\, behind-the-scenes look into the making of Jaws written by Joseph Nixon and Ian Shaw.\nThe historic first summer blockbuster movie is being filmed – but no one working on the film would know it. Dive deep into the tumultuous\, murky waters of the making of a major motion picture with dueling co-stars\, unpredictable weather and a shark prop whose constant breakdowns are looking like an omen for the future of the movie. The short tempers and short circuits of Jaws stars Robert Shaw\, Richard Dreyfuss\, and Roy Scheider take center stage as they bond\, argue\, drink\, gamble and pray for an end to the film shoot\, not knowing it will change their lives forever.\nThe Shark is Broken contains depictions of alcohol and smoking\, and includes some strong language and mild adult themes.\nPerformed at: Stage West Studio (300 Sheyenne St Suite 120\, West Fargo\, ND 58078). General Admission tickets; first-come\, first-served seating.\nApril 10-12\, 16-19\, & 23-25 at 7:30pm\n\n\n\n\n\n\n\nAttendance is limited to 60 people per performance. \n\nAdults – $25.00\nSeniors – $22.00\nStudents – $20.00\n\nAll seats are general admission; first-come\, first-served seating.
URL:https://fargomom.com/event/the-shark-is-broken/2026-04-11/
LOCATION:Stage West Studio\, 300 Sheyenne Street\, West Fargo\, North Dakota\, 58078
END:VEVENT
BEGIN:VEVENT
DTSTART;TZID=America/Chicago:20260410T193000
DTEND;TZID=America/Chicago:20260410T210000
DTSTAMP:20260422T152918
CREATED:20260312T014113Z
LAST-MODIFIED:20260312T014113Z
UID:10038040-1775849400-1775854800@fargomom.com
SUMMARY:The Shark is Broken
DESCRIPTION:A comedic\, behind-the-scenes look into the making of Jaws written by Joseph Nixon and Ian Shaw.\nThe historic first summer blockbuster movie is being filmed – but no one working on the film would know it. Dive deep into the tumultuous\, murky waters of the making of a major motion picture with dueling co-stars\, unpredictable weather and a shark prop whose constant breakdowns are looking like an omen for the future of the movie. The short tempers and short circuits of Jaws stars Robert Shaw\, Richard Dreyfuss\, and Roy Scheider take center stage as they bond\, argue\, drink\, gamble and pray for an end to the film shoot\, not knowing it will change their lives forever.\nThe Shark is Broken contains depictions of alcohol and smoking\, and includes some strong language and mild adult themes.\nPerformed at: Stage West Studio (300 Sheyenne St Suite 120\, West Fargo\, ND 58078). General Admission tickets; first-come\, first-served seating.\nApril 10-12\, 16-19\, & 23-25 at 7:30pm\n\n\n\n\n\n\n\nAttendance is limited to 60 people per performance. \n\nAdults – $25.00\nSeniors – $22.00\nStudents – $20.00\n\nAll seats are general admission; first-come\, first-served seating.
URL:https://fargomom.com/event/the-shark-is-broken/2026-04-10/
LOCATION:Stage West Studio\, 300 Sheyenne Street\, West Fargo\, North Dakota\, 58078
END:VEVENT
END:VCALENDAR