BEGIN:VCALENDAR
VERSION:2.0
PRODID:-//Fargo Mom - ECPv6.15.20//NONSGML v1.0//EN
CALSCALE:GREGORIAN
METHOD:PUBLISH
X-ORIGINAL-URL:https://fargomom.com
X-WR-CALDESC:Events for Fargo Mom
REFRESH-INTERVAL;VALUE=DURATION:PT1H
X-Robots-Tag:noindex
X-PUBLISHED-TTL:PT1H
BEGIN:VTIMEZONE
TZID:America/Chicago
BEGIN:DAYLIGHT
TZOFFSETFROM:-0600
TZOFFSETTO:-0500
TZNAME:CDT
DTSTART:20250309T080000
END:DAYLIGHT
BEGIN:STANDARD
TZOFFSETFROM:-0500
TZOFFSETTO:-0600
TZNAME:CST
DTSTART:20251102T070000
END:STANDARD
BEGIN:DAYLIGHT
TZOFFSETFROM:-0600
TZOFFSETTO:-0500
TZNAME:CDT
DTSTART:20260308T080000
END:DAYLIGHT
BEGIN:STANDARD
TZOFFSETFROM:-0500
TZOFFSETTO:-0600
TZNAME:CST
DTSTART:20261101T070000
END:STANDARD
BEGIN:DAYLIGHT
TZOFFSETFROM:-0600
TZOFFSETTO:-0500
TZNAME:CDT
DTSTART:20270314T080000
END:DAYLIGHT
BEGIN:STANDARD
TZOFFSETFROM:-0500
TZOFFSETTO:-0600
TZNAME:CST
DTSTART:20271107T070000
END:STANDARD
END:VTIMEZONE
BEGIN:VEVENT
DTSTART;TZID=America/Chicago:20260412T180000
DTEND;TZID=America/Chicago:20260412T200000
DTSTAMP:20260422T151623
CREATED:20260306T025251Z
LAST-MODIFIED:20260306T025251Z
UID:10037995-1776016800-1776024000@fargomom.com
SUMMARY:Spring Style After Hours-Presented by SCHEELS Visa
DESCRIPTION:Spring Style After Hours is back!\nJoin SCHEELS Home & Hardware for an exclusive shopping experience filled with fashion\, fun\, and one-night-only savings.\nGrab your friends and enjoy an evening featuring: Exclusive giveaways One-night-only tiered discount sale A portion of proceeds benefiting Hope Blooms\n Tickets$25 per personYour ticket includes a $25 SCHEELS gift card given to you at the door.\n Early Access for VISA Cardmembers:Tickets go live Tuesday\, March 10th at 9:00 AM for a limited number of Cardmember purchases. To participate\, log in to your account and save your SCHEELS Visa card to verify eligibility.\nNot a Cardmember yet? Apply today and unlock early ticket access plus other perks: scheels.com/visacard\n General Public Tickets: Thursday\, March 12th at 9:00 AM\nGet ready to step into spring style!
URL:https://fargomom.com/event/spring-style-after-hours-presented-by-scheels-visa/
LOCATION:Scheels Home & Hardware\, 3202 13th Ave S\, Fargo\, ND
END:VEVENT
END:VCALENDAR