BEGIN:VCALENDAR
VERSION:2.0
PRODID:-//Fargo Mom - ECPv6.15.20//NONSGML v1.0//EN
CALSCALE:GREGORIAN
METHOD:PUBLISH
X-ORIGINAL-URL:https://fargomom.com
X-WR-CALDESC:Events for Fargo Mom
REFRESH-INTERVAL;VALUE=DURATION:PT1H
X-Robots-Tag:noindex
X-PUBLISHED-TTL:PT1H
BEGIN:VTIMEZONE
TZID:America/Chicago
BEGIN:DAYLIGHT
TZOFFSETFROM:-0600
TZOFFSETTO:-0500
TZNAME:CDT
DTSTART:20250309T080000
END:DAYLIGHT
BEGIN:STANDARD
TZOFFSETFROM:-0500
TZOFFSETTO:-0600
TZNAME:CST
DTSTART:20251102T070000
END:STANDARD
BEGIN:DAYLIGHT
TZOFFSETFROM:-0600
TZOFFSETTO:-0500
TZNAME:CDT
DTSTART:20260308T080000
END:DAYLIGHT
BEGIN:STANDARD
TZOFFSETFROM:-0500
TZOFFSETTO:-0600
TZNAME:CST
DTSTART:20261101T070000
END:STANDARD
BEGIN:DAYLIGHT
TZOFFSETFROM:-0600
TZOFFSETTO:-0500
TZNAME:CDT
DTSTART:20270314T080000
END:DAYLIGHT
BEGIN:STANDARD
TZOFFSETFROM:-0500
TZOFFSETTO:-0600
TZNAME:CST
DTSTART:20271107T070000
END:STANDARD
END:VTIMEZONE
BEGIN:VEVENT
DTSTART;TZID=America/Chicago:20260402T100000
DTEND;TZID=America/Chicago:20260402T120000
DTSTAMP:20260424T050803
CREATED:20260314T144808Z
LAST-MODIFIED:20260314T144808Z
UID:10038085-1775124000-1775131200@fargomom.com
SUMMARY:FM MOMS Club Open House + Easter Egg Hunt at Rustad Rec
DESCRIPTION: hi! Join MOMS Club of the FM area for an open house and FREE Easter egg hunt + more fun activities + snacks! We can’t wait to meet you and your little ones! \nThis will be at Rustad Red center on the turf area- check in at the front and follow the signs!\nChat with other mommas\, enjoy the fun\, and learn all about MOMS club and see if it is a good fit for you and your littles!\nWe are a nonprofit 501(c)(3) that connects mamas and their littles ages newborn to preschool age. We have weekly events and field trips – think coffee dates\, park meet-ups and all the play dates! Most of our events fall on the weekday mornings\, but we also have occasional evening events. We truly support each other through motherhood\, and your babies gain friends too! It is so much fun!\nCheck out our FAQs under our Facebook page for more info on MOMS\, or just feel free to chat with us at our Easter event! We are truly so excited to see you!!
URL:https://fargomom.com/event/fm-moms-club-open-house-easter-egg-hunt-at-rustad-rec/
LOCATION:Rustad Recreation Center
END:VEVENT
BEGIN:VEVENT
DTSTART;TZID=America/Chicago:20260330T163000
DTEND;TZID=America/Chicago:20260330T183000
DTSTAMP:20260424T050803
CREATED:20260302T023638Z
LAST-MODIFIED:20260302T023638Z
UID:10037962-1774888200-1774895400@fargomom.com
SUMMARY:Second Annual Spring Fling Family Fun Night
DESCRIPTION:Join us for a night of fun\, community and connection at the Rustad Recreation Center on March 30th from 4:30-6:30 PM. This event is FREE to attend and open to the public.\nWhat you can expect:Connect with community resources & local businesses/organizationsInteractive activities at each boothLight meal provided by Vikingland Kiwanis (while supplies last)Inflatable games & turf spaceAnd more..!\nWe hope to see you there!
URL:https://fargomom.com/event/second-annual-spring-fling-family-fun-night/
LOCATION:Rustad Recreation Center
END:VEVENT
END:VCALENDAR