BEGIN:VCALENDAR
VERSION:2.0
PRODID:-//Fargo Mom - ECPv6.15.20//NONSGML v1.0//EN
CALSCALE:GREGORIAN
METHOD:PUBLISH
X-WR-CALNAME:Fargo Mom
X-ORIGINAL-URL:https://fargomom.com
X-WR-CALDESC:Events for Fargo Mom
REFRESH-INTERVAL;VALUE=DURATION:PT1H
X-Robots-Tag:noindex
X-PUBLISHED-TTL:PT1H
BEGIN:VTIMEZONE
TZID:America/Chicago
BEGIN:DAYLIGHT
TZOFFSETFROM:-0600
TZOFFSETTO:-0500
TZNAME:CDT
DTSTART:20250309T080000
END:DAYLIGHT
BEGIN:STANDARD
TZOFFSETFROM:-0500
TZOFFSETTO:-0600
TZNAME:CST
DTSTART:20251102T070000
END:STANDARD
BEGIN:DAYLIGHT
TZOFFSETFROM:-0600
TZOFFSETTO:-0500
TZNAME:CDT
DTSTART:20260308T080000
END:DAYLIGHT
BEGIN:STANDARD
TZOFFSETFROM:-0500
TZOFFSETTO:-0600
TZNAME:CST
DTSTART:20261101T070000
END:STANDARD
BEGIN:DAYLIGHT
TZOFFSETFROM:-0600
TZOFFSETTO:-0500
TZNAME:CDT
DTSTART:20270314T080000
END:DAYLIGHT
BEGIN:STANDARD
TZOFFSETFROM:-0500
TZOFFSETTO:-0600
TZNAME:CST
DTSTART:20271107T070000
END:STANDARD
END:VTIMEZONE
BEGIN:VEVENT
DTSTART;TZID=America/Chicago:20260423T163000
DTEND;TZID=America/Chicago:20260423T183000
DTSTAMP:20260424T155813
CREATED:20260407T022929Z
LAST-MODIFIED:20260407T022929Z
UID:10038400-1776961800-1776969000@fargomom.com
SUMMARY:Learn to Build
DESCRIPTION: Calling all young builders and creative minds! Step into a world of DIY excitement at the Fargo Park District’s Learn to Build event. Join us as we ignite your child’s inner carpenter!\nThis hands-on experience is perfect for kids aged 6 and up\, accompanied by a parent or guardian. It’s a fantastic way to bond\, learn\, and create lasting memories.\nDeadline to sign up is April 20 so secure your spot today for just $10 per child! Hurry\, spaces are limited and filling up fast. Click the link to register and guarantee your place in this exciting adventure: www.fargoparks.com/events-and-deadlines/learn-build\nA big shoutout to our event sponsor\, Groundworks\, for making this event possible!
URL:https://fargomom.com/event/learn-to-build/
LOCATION:Rheault Farm\, 2902 25th Street S
END:VEVENT
END:VCALENDAR