BEGIN:VCALENDAR
VERSION:2.0
PRODID:-//Fargo Mom - ECPv6.15.20//NONSGML v1.0//EN
CALSCALE:GREGORIAN
METHOD:PUBLISH
X-WR-CALNAME:Fargo Mom
X-ORIGINAL-URL:https://fargomom.com
X-WR-CALDESC:Events for Fargo Mom
REFRESH-INTERVAL;VALUE=DURATION:PT1H
X-Robots-Tag:noindex
X-PUBLISHED-TTL:PT1H
BEGIN:VTIMEZONE
TZID:America/Chicago
BEGIN:DAYLIGHT
TZOFFSETFROM:-0600
TZOFFSETTO:-0500
TZNAME:CDT
DTSTART:20250309T080000
END:DAYLIGHT
BEGIN:STANDARD
TZOFFSETFROM:-0500
TZOFFSETTO:-0600
TZNAME:CST
DTSTART:20251102T070000
END:STANDARD
BEGIN:DAYLIGHT
TZOFFSETFROM:-0600
TZOFFSETTO:-0500
TZNAME:CDT
DTSTART:20260308T080000
END:DAYLIGHT
BEGIN:STANDARD
TZOFFSETFROM:-0500
TZOFFSETTO:-0600
TZNAME:CST
DTSTART:20261101T070000
END:STANDARD
BEGIN:DAYLIGHT
TZOFFSETFROM:-0600
TZOFFSETTO:-0500
TZNAME:CDT
DTSTART:20270314T080000
END:DAYLIGHT
BEGIN:STANDARD
TZOFFSETFROM:-0500
TZOFFSETTO:-0600
TZNAME:CST
DTSTART:20271107T070000
END:STANDARD
END:VTIMEZONE
BEGIN:VEVENT
DTSTART;TZID=America/Chicago:20260509T100000
DTEND;TZID=America/Chicago:20260509T130000
DTSTAMP:20260424T123305
CREATED:20260420T014735Z
LAST-MODIFIED:20260420T014735Z
UID:10038634-1778320800-1778331600@fargomom.com
SUMMARY:Apple Tree Pruning Workshop
DESCRIPTION:Learn how to prune apple or fruit trees and get them ready for their summer growing season!\nJoin Jim Walla\, owner of Northern Tree Specialties\, and Sam DeMarais\, Fargo Park District Forester\, for a live demonstration and tutorial. Topics of this workshop include tools and equipment\, general pruning for tree health and maintenance\, pruning of cherry\, plum and pear trees as well as grafting apple trees. We hope to see you at Orchard Glen Park.\nAll ages are welcome. This is a FREE workshop but we ask all attendees to register prior to attending.\nThis is a free class but 𝙥𝙧𝙚-𝙧𝙚𝙜𝙞𝙨𝙩𝙧𝙖𝙩𝙞𝙤𝙣 𝙞𝙨 𝙧𝙚𝙦𝙪𝙞𝙧𝙚𝙙. All ages are welcome. See you at Orchard Glen Park\, May 9 from 10:00 am-1:00 pm.\nRegister online at https://registration.planningpod.com/?ssid=MTc4ODk1Mg%3D%3D
URL:https://fargomom.com/event/apple-tree-pruning-workshop/
LOCATION:Orchard Glen Park\, 802 Orchard Park Dr\, Fargo\, North Dakota\, 58104
END:VEVENT
END:VCALENDAR