BEGIN:VCALENDAR
VERSION:2.0
PRODID:-//Fargo Mom - ECPv6.15.20//NONSGML v1.0//EN
CALSCALE:GREGORIAN
METHOD:PUBLISH
X-ORIGINAL-URL:https://fargomom.com
X-WR-CALDESC:Events for Fargo Mom
REFRESH-INTERVAL;VALUE=DURATION:PT1H
X-Robots-Tag:noindex
X-PUBLISHED-TTL:PT1H
BEGIN:VTIMEZONE
TZID:America/Chicago
BEGIN:DAYLIGHT
TZOFFSETFROM:-0600
TZOFFSETTO:-0500
TZNAME:CDT
DTSTART:20250309T080000
END:DAYLIGHT
BEGIN:STANDARD
TZOFFSETFROM:-0500
TZOFFSETTO:-0600
TZNAME:CST
DTSTART:20251102T070000
END:STANDARD
BEGIN:DAYLIGHT
TZOFFSETFROM:-0600
TZOFFSETTO:-0500
TZNAME:CDT
DTSTART:20260308T080000
END:DAYLIGHT
BEGIN:STANDARD
TZOFFSETFROM:-0500
TZOFFSETTO:-0600
TZNAME:CST
DTSTART:20261101T070000
END:STANDARD
BEGIN:DAYLIGHT
TZOFFSETFROM:-0600
TZOFFSETTO:-0500
TZNAME:CDT
DTSTART:20270314T080000
END:DAYLIGHT
BEGIN:STANDARD
TZOFFSETFROM:-0500
TZOFFSETTO:-0600
TZNAME:CST
DTSTART:20271107T070000
END:STANDARD
END:VTIMEZONE
BEGIN:VEVENT
DTSTART;TZID=America/Chicago:20260412T140000
DTEND;TZID=America/Chicago:20260412T153000
DTSTAMP:20260424T051646
CREATED:20260314T015634Z
LAST-MODIFIED:20260314T015634Z
UID:10038082-1776002400-1776007800@fargomom.com
SUMMARY:The Sound of Music
DESCRIPTION:𝑻𝒉𝒆 𝑺𝒐𝒖𝒏𝒅 𝒐𝒇 𝑴𝒖𝒔𝒊𝒄A Theatre NDSU and Challey School of Music Co-Production7:30 p.m. April 9 – 11\, 20262 p.m. Sunday\, April 12NDSU Festival Concert HallTickets: ndsu.showare.com or 701-231-7969\nThis April\, Theatre NDSU and the NDSU Challey School of Music proudly present 𝘛𝘩𝘦 𝘚𝘰𝘶𝘯𝘥 𝘰𝘧 𝘔𝘶𝘴𝘪𝘤\, the iconic tale of love\, hope\, and resilience! The musical follows Maria\, a young nun who is sent to the Von Trapp family to serve as governess for seven unruly children. While there\, Maria teaches the children to sing and gradually captures the heart of Captain Von Trapp\, only to have their world splintered by the invasion of the Nazis.\nBased on the true story of the Von Trapp Family Singers\, 𝘛𝘩𝘦 𝘚𝘰𝘶𝘯𝘥 𝘰𝘧 𝘔𝘶𝘴𝘪𝘤 reminds us that hope can be found and transformed into courage\, and with heartfelt compassion and determination\, every mountain can be climbed. Come experience this beloved musical and let your heart be filled with the sound of music!\nTickets are $20 for adults\, $15 for seniors\, and $10 for students (all ages\, including children). Visit ndsu.showare.com or call the Box Office at 701-231-7969 to reserve your seats. All seating is general admission.\nNDSU students get in FREE. Present your ID at the door or fill out this quick Google form to reserve them in advance (make sure you are logged into Google with your NDSU email\, NOT your personal Gmail): https://bit.ly/SoundOfMusicNDSU
URL:https://fargomom.com/event/the-sound-of-music/2026-04-12/
LOCATION:NDSU Festival Concert Hall
END:VEVENT
BEGIN:VEVENT
DTSTART;TZID=America/Chicago:20260411T193000
DTEND;TZID=America/Chicago:20260411T210000
DTSTAMP:20260424T051646
CREATED:20260314T015634Z
LAST-MODIFIED:20260314T015634Z
UID:10038081-1775935800-1775941200@fargomom.com
SUMMARY:The Sound of Music
DESCRIPTION:𝑻𝒉𝒆 𝑺𝒐𝒖𝒏𝒅 𝒐𝒇 𝑴𝒖𝒔𝒊𝒄A Theatre NDSU and Challey School of Music Co-Production7:30 p.m. April 9 – 11\, 20262 p.m. Sunday\, April 12NDSU Festival Concert HallTickets: ndsu.showare.com or 701-231-7969\nThis April\, Theatre NDSU and the NDSU Challey School of Music proudly present 𝘛𝘩𝘦 𝘚𝘰𝘶𝘯𝘥 𝘰𝘧 𝘔𝘶𝘴𝘪𝘤\, the iconic tale of love\, hope\, and resilience! The musical follows Maria\, a young nun who is sent to the Von Trapp family to serve as governess for seven unruly children. While there\, Maria teaches the children to sing and gradually captures the heart of Captain Von Trapp\, only to have their world splintered by the invasion of the Nazis.\nBased on the true story of the Von Trapp Family Singers\, 𝘛𝘩𝘦 𝘚𝘰𝘶𝘯𝘥 𝘰𝘧 𝘔𝘶𝘴𝘪𝘤 reminds us that hope can be found and transformed into courage\, and with heartfelt compassion and determination\, every mountain can be climbed. Come experience this beloved musical and let your heart be filled with the sound of music!\nTickets are $20 for adults\, $15 for seniors\, and $10 for students (all ages\, including children). Visit ndsu.showare.com or call the Box Office at 701-231-7969 to reserve your seats. All seating is general admission.\nNDSU students get in FREE. Present your ID at the door or fill out this quick Google form to reserve them in advance (make sure you are logged into Google with your NDSU email\, NOT your personal Gmail): https://bit.ly/SoundOfMusicNDSU
URL:https://fargomom.com/event/the-sound-of-music/2026-04-11/
LOCATION:NDSU Festival Concert Hall
END:VEVENT
BEGIN:VEVENT
DTSTART;TZID=America/Chicago:20260410T193000
DTEND;TZID=America/Chicago:20260410T210000
DTSTAMP:20260424T051646
CREATED:20260314T015634Z
LAST-MODIFIED:20260314T015634Z
UID:10038080-1775849400-1775854800@fargomom.com
SUMMARY:The Sound of Music
DESCRIPTION:𝑻𝒉𝒆 𝑺𝒐𝒖𝒏𝒅 𝒐𝒇 𝑴𝒖𝒔𝒊𝒄A Theatre NDSU and Challey School of Music Co-Production7:30 p.m. April 9 – 11\, 20262 p.m. Sunday\, April 12NDSU Festival Concert HallTickets: ndsu.showare.com or 701-231-7969\nThis April\, Theatre NDSU and the NDSU Challey School of Music proudly present 𝘛𝘩𝘦 𝘚𝘰𝘶𝘯𝘥 𝘰𝘧 𝘔𝘶𝘴𝘪𝘤\, the iconic tale of love\, hope\, and resilience! The musical follows Maria\, a young nun who is sent to the Von Trapp family to serve as governess for seven unruly children. While there\, Maria teaches the children to sing and gradually captures the heart of Captain Von Trapp\, only to have their world splintered by the invasion of the Nazis.\nBased on the true story of the Von Trapp Family Singers\, 𝘛𝘩𝘦 𝘚𝘰𝘶𝘯𝘥 𝘰𝘧 𝘔𝘶𝘴𝘪𝘤 reminds us that hope can be found and transformed into courage\, and with heartfelt compassion and determination\, every mountain can be climbed. Come experience this beloved musical and let your heart be filled with the sound of music!\nTickets are $20 for adults\, $15 for seniors\, and $10 for students (all ages\, including children). Visit ndsu.showare.com or call the Box Office at 701-231-7969 to reserve your seats. All seating is general admission.\nNDSU students get in FREE. Present your ID at the door or fill out this quick Google form to reserve them in advance (make sure you are logged into Google with your NDSU email\, NOT your personal Gmail): https://bit.ly/SoundOfMusicNDSU
URL:https://fargomom.com/event/the-sound-of-music/2026-04-10/
LOCATION:NDSU Festival Concert Hall
END:VEVENT
BEGIN:VEVENT
DTSTART;TZID=America/Chicago:20260409T193000
DTEND;TZID=America/Chicago:20260409T210000
DTSTAMP:20260424T051646
CREATED:20260314T015634Z
LAST-MODIFIED:20260314T015634Z
UID:10038079-1775763000-1775768400@fargomom.com
SUMMARY:The Sound of Music
DESCRIPTION:𝑻𝒉𝒆 𝑺𝒐𝒖𝒏𝒅 𝒐𝒇 𝑴𝒖𝒔𝒊𝒄A Theatre NDSU and Challey School of Music Co-Production7:30 p.m. April 9 – 11\, 20262 p.m. Sunday\, April 12NDSU Festival Concert HallTickets: ndsu.showare.com or 701-231-7969\nThis April\, Theatre NDSU and the NDSU Challey School of Music proudly present 𝘛𝘩𝘦 𝘚𝘰𝘶𝘯𝘥 𝘰𝘧 𝘔𝘶𝘴𝘪𝘤\, the iconic tale of love\, hope\, and resilience! The musical follows Maria\, a young nun who is sent to the Von Trapp family to serve as governess for seven unruly children. While there\, Maria teaches the children to sing and gradually captures the heart of Captain Von Trapp\, only to have their world splintered by the invasion of the Nazis.\nBased on the true story of the Von Trapp Family Singers\, 𝘛𝘩𝘦 𝘚𝘰𝘶𝘯𝘥 𝘰𝘧 𝘔𝘶𝘴𝘪𝘤 reminds us that hope can be found and transformed into courage\, and with heartfelt compassion and determination\, every mountain can be climbed. Come experience this beloved musical and let your heart be filled with the sound of music!\nTickets are $20 for adults\, $15 for seniors\, and $10 for students (all ages\, including children). Visit ndsu.showare.com or call the Box Office at 701-231-7969 to reserve your seats. All seating is general admission.\nNDSU students get in FREE. Present your ID at the door or fill out this quick Google form to reserve them in advance (make sure you are logged into Google with your NDSU email\, NOT your personal Gmail): https://bit.ly/SoundOfMusicNDSU
URL:https://fargomom.com/event/the-sound-of-music/2026-04-09/
LOCATION:NDSU Festival Concert Hall
END:VEVENT
END:VCALENDAR