BEGIN:VCALENDAR
VERSION:2.0
PRODID:-//Fargo Mom - ECPv6.15.20//NONSGML v1.0//EN
CALSCALE:GREGORIAN
METHOD:PUBLISH
X-WR-CALNAME:Fargo Mom
X-ORIGINAL-URL:https://fargomom.com
X-WR-CALDESC:Events for Fargo Mom
REFRESH-INTERVAL;VALUE=DURATION:PT1H
X-Robots-Tag:noindex
X-PUBLISHED-TTL:PT1H
BEGIN:VTIMEZONE
TZID:America/Chicago
BEGIN:DAYLIGHT
TZOFFSETFROM:-0600
TZOFFSETTO:-0500
TZNAME:CDT
DTSTART:20250309T080000
END:DAYLIGHT
BEGIN:STANDARD
TZOFFSETFROM:-0500
TZOFFSETTO:-0600
TZNAME:CST
DTSTART:20251102T070000
END:STANDARD
BEGIN:DAYLIGHT
TZOFFSETFROM:-0600
TZOFFSETTO:-0500
TZNAME:CDT
DTSTART:20260308T080000
END:DAYLIGHT
BEGIN:STANDARD
TZOFFSETFROM:-0500
TZOFFSETTO:-0600
TZNAME:CST
DTSTART:20261101T070000
END:STANDARD
BEGIN:DAYLIGHT
TZOFFSETFROM:-0600
TZOFFSETTO:-0500
TZNAME:CDT
DTSTART:20270314T080000
END:DAYLIGHT
BEGIN:STANDARD
TZOFFSETFROM:-0500
TZOFFSETTO:-0600
TZNAME:CST
DTSTART:20271107T070000
END:STANDARD
END:VTIMEZONE
BEGIN:VEVENT
DTSTART;TZID=America/Chicago:20260425T120000
DTEND;TZID=America/Chicago:20260425T170000
DTSTAMP:20260422T132327
CREATED:20260421T155230Z
LAST-MODIFIED:20260421T155230Z
UID:10038673-1777118400-1777136400@fargomom.com
SUMMARY:Belly\, Baby & Beyond Expo
DESCRIPTION:Fargo Birth is hosting the third Belly\, Baby & Beyond Baby Expo April 25\, 2026 in Fargo\, ND at the Holiday Inn Fargo located on 13th Ave across from West Acres Mall. With over 40 vendors\, we are going to be the largest baby expo in this area! There will be shopping\, activities\, education\, and LOTS OF PRIZES!!\nVIP event from 11:00 AM – 12:00 PMGeneral Admission event from 12:00 PM – 5:00 PM\nWe are so excited to see everyone! Ticket sales are LIVE!
URL:https://fargomom.com/event/belly-baby-beyond-expo-2/
LOCATION:Holiday Inn Fargo\, 3803 13th Avenue South\, Fargo\, ND\, 58103\, United States
END:VEVENT
END:VCALENDAR