BEGIN:VCALENDAR
VERSION:2.0
PRODID:-//Fargo Mom - ECPv6.15.20//NONSGML v1.0//EN
CALSCALE:GREGORIAN
METHOD:PUBLISH
X-WR-CALNAME:Fargo Mom
X-ORIGINAL-URL:https://fargomom.com
X-WR-CALDESC:Events for Fargo Mom
REFRESH-INTERVAL;VALUE=DURATION:PT1H
X-Robots-Tag:noindex
X-PUBLISHED-TTL:PT1H
BEGIN:VTIMEZONE
TZID:America/Chicago
BEGIN:DAYLIGHT
TZOFFSETFROM:-0600
TZOFFSETTO:-0500
TZNAME:CDT
DTSTART:20250309T080000
END:DAYLIGHT
BEGIN:STANDARD
TZOFFSETFROM:-0500
TZOFFSETTO:-0600
TZNAME:CST
DTSTART:20251102T070000
END:STANDARD
BEGIN:DAYLIGHT
TZOFFSETFROM:-0600
TZOFFSETTO:-0500
TZNAME:CDT
DTSTART:20260308T080000
END:DAYLIGHT
BEGIN:STANDARD
TZOFFSETFROM:-0500
TZOFFSETTO:-0600
TZNAME:CST
DTSTART:20261101T070000
END:STANDARD
BEGIN:DAYLIGHT
TZOFFSETFROM:-0600
TZOFFSETTO:-0500
TZNAME:CDT
DTSTART:20270314T080000
END:DAYLIGHT
BEGIN:STANDARD
TZOFFSETFROM:-0500
TZOFFSETTO:-0600
TZNAME:CST
DTSTART:20271107T070000
END:STANDARD
END:VTIMEZONE
BEGIN:VEVENT
DTSTART;TZID=America/Chicago:20260509T100000
DTEND;TZID=America/Chicago:20260509T140000
DTSTAMP:20260424T033815
CREATED:20260423T144137Z
LAST-MODIFIED:20260423T144137Z
UID:10038690-1778320800-1778335200@fargomom.com
SUMMARY:2nd Annual Dilworth Kite Festival
DESCRIPTION:Its the 2nd Annual Dilworth Kite Festival!!!May 9th\, 2026 from 10 am – 2 pm at Bob Marshall FieldShow kite demonstrations by the Wings on Strings Kite Club.\n* Free kites to the first 300 kids* Free face painting by Face the Rainbow* Lots of food trucks*Bring your own lawn chairs or blankets to make it a fun family picnic day\nWatch for updates on our event page!
URL:https://fargomom.com/event/2nd-annual-dilworth-kite-festival/
LOCATION:Bob Marshall Fields\, Dilworth\, Minnesota
END:VEVENT
END:VCALENDAR