BEGIN:VCALENDAR
VERSION:2.0
PRODID:-//Fargo Mom - ECPv6.15.20//NONSGML v1.0//EN
CALSCALE:GREGORIAN
METHOD:PUBLISH
X-WR-CALNAME:Fargo Mom
X-ORIGINAL-URL:https://fargomom.com
X-WR-CALDESC:Events for Fargo Mom
REFRESH-INTERVAL;VALUE=DURATION:PT1H
X-Robots-Tag:noindex
X-PUBLISHED-TTL:PT1H
BEGIN:VTIMEZONE
TZID:America/Chicago
BEGIN:DAYLIGHT
TZOFFSETFROM:-0600
TZOFFSETTO:-0500
TZNAME:CDT
DTSTART:20250309T080000
END:DAYLIGHT
BEGIN:STANDARD
TZOFFSETFROM:-0500
TZOFFSETTO:-0600
TZNAME:CST
DTSTART:20251102T070000
END:STANDARD
BEGIN:DAYLIGHT
TZOFFSETFROM:-0600
TZOFFSETTO:-0500
TZNAME:CDT
DTSTART:20260308T080000
END:DAYLIGHT
BEGIN:STANDARD
TZOFFSETFROM:-0500
TZOFFSETTO:-0600
TZNAME:CST
DTSTART:20261101T070000
END:STANDARD
BEGIN:DAYLIGHT
TZOFFSETFROM:-0600
TZOFFSETTO:-0500
TZNAME:CDT
DTSTART:20270314T080000
END:DAYLIGHT
BEGIN:STANDARD
TZOFFSETFROM:-0500
TZOFFSETTO:-0600
TZNAME:CST
DTSTART:20271107T070000
END:STANDARD
END:VTIMEZONE
BEGIN:VEVENT
DTSTART;TZID=America/Chicago:20260617T120000
DTEND;TZID=America/Chicago:20260617T130000
DTSTAMP:20260424T003809
CREATED:20260424T021410Z
LAST-MODIFIED:20260424T021410Z
UID:10038710-1781697600-1781701200@fargomom.com
SUMMARY:Sculpt on the Lawn with Mojo Fit Studios
DESCRIPTION:Join us for FREE Sculpt on the Lawn at The Lights! This high intensity fitness class will work the whole body with motivating music to keep you going. Class will target arms\, legs\, cardio\, and core. All ages and abilities welcome with modifications and intensifications offered to customize your practice. Get ready to sweat in the SUN! Please bring a mat (or towel)\, water\, hand towel\, and your sunglasses.\nWe kindly ask for preregistration to properly plan and communicate any weather changes in they arise.
URL:https://fargomom.com/event/sculpt-on-the-lawn-with-mojo-fit-studios/2026-06-17/
LOCATION:The Lights at Sheyenne
CATEGORIES:Summer Event
END:VEVENT
BEGIN:VEVENT
DTSTART;TZID=America/Chicago:20260722T125000
DTEND;TZID=America/Chicago:20260722T155000
DTSTAMP:20260424T003809
CREATED:20260424T021410Z
LAST-MODIFIED:20260424T021410Z
UID:10038711-1784724600-1784735400@fargomom.com
SUMMARY:Sculpt on the Lawn with Mojo Fit Studios
DESCRIPTION:Join us for FREE Sculpt on the Lawn at The Lights! This high intensity fitness class will work the whole body with motivating music to keep you going. Class will target arms\, legs\, cardio\, and core. All ages and abilities welcome with modifications and intensifications offered to customize your practice. Get ready to sweat in the SUN! Please bring a mat (or towel)\, water\, hand towel\, and your sunglasses.\nWe kindly ask for preregistration to properly plan and communicate any weather changes in they arise.
URL:https://fargomom.com/event/sculpt-on-the-lawn-with-mojo-fit-studios/2026-07-22/
LOCATION:The Lights at Sheyenne
CATEGORIES:Summer Event
END:VEVENT
END:VCALENDAR