BEGIN:VCALENDAR
VERSION:2.0
PRODID:-//Fargo Mom - ECPv6.15.20//NONSGML v1.0//EN
CALSCALE:GREGORIAN
METHOD:PUBLISH
X-WR-CALNAME:Fargo Mom
X-ORIGINAL-URL:https://fargomom.com
X-WR-CALDESC:Events for Fargo Mom
REFRESH-INTERVAL;VALUE=DURATION:PT1H
X-Robots-Tag:noindex
X-PUBLISHED-TTL:PT1H
BEGIN:VTIMEZONE
TZID:America/Chicago
BEGIN:DAYLIGHT
TZOFFSETFROM:-0600
TZOFFSETTO:-0500
TZNAME:CDT
DTSTART:20250309T080000
END:DAYLIGHT
BEGIN:STANDARD
TZOFFSETFROM:-0500
TZOFFSETTO:-0600
TZNAME:CST
DTSTART:20251102T070000
END:STANDARD
BEGIN:DAYLIGHT
TZOFFSETFROM:-0600
TZOFFSETTO:-0500
TZNAME:CDT
DTSTART:20260308T080000
END:DAYLIGHT
BEGIN:STANDARD
TZOFFSETFROM:-0500
TZOFFSETTO:-0600
TZNAME:CST
DTSTART:20261101T070000
END:STANDARD
BEGIN:DAYLIGHT
TZOFFSETFROM:-0600
TZOFFSETTO:-0500
TZNAME:CDT
DTSTART:20270314T080000
END:DAYLIGHT
BEGIN:STANDARD
TZOFFSETFROM:-0500
TZOFFSETTO:-0600
TZNAME:CST
DTSTART:20271107T070000
END:STANDARD
END:VTIMEZONE
BEGIN:VEVENT
DTSTART;TZID=America/Chicago:20260603T120000
DTEND;TZID=America/Chicago:20260603T130000
DTSTAMP:20260424T011328
CREATED:20260424T021025Z
LAST-MODIFIED:20260424T021717Z
UID:10038702-1780488000-1780491600@fargomom.com
SUMMARY:Yoga on the Lawn with Mojo Fit Studios
DESCRIPTION:Join us for FREE Yoga on the Lawn at The Lights! This vinyasa style yoga class is open to all ages and abilities. Class will incorporate breathe to movement and some deeper stretches for a balanced practice that supports body and mind. Please bring a mat (or towel)\, water\, and your sunglasses.\nWe kindly ask for preregistration to properly plan and communicate any weather changes should they arise.
URL:https://fargomom.com/event/yoga-on-the-lawn-with-mojo-fit-studios/2026-06-03/
LOCATION:The Lights at Sheyenne
CATEGORIES:Summer Event
END:VEVENT
BEGIN:VEVENT
DTSTART;TZID=America/Chicago:20260610T120000
DTEND;TZID=America/Chicago:20260610T130000
DTSTAMP:20260424T011328
CREATED:20260424T021025Z
LAST-MODIFIED:20260424T021025Z
UID:10038703-1781092800-1781096400@fargomom.com
SUMMARY:Yoga on the Lawn with Mojo Fit Studios
DESCRIPTION:Join us for FREE Yoga on the Lawn at The Lights! This vinyasa style yoga class is open to all ages and abilities. Class will incorporate breathe to movement and some deeper stretches for a balanced practice that supports body and mind. Please bring a mat (or towel)\, water\, and your sunglasses.\nWe kindly ask for preregistration to properly plan and communicate any weather changes should they arise.
URL:https://fargomom.com/event/yoga-on-the-lawn-with-mojo-fit-studios/2026-06-10/
LOCATION:The Lights at Sheyenne
CATEGORIES:Summer Event
END:VEVENT
BEGIN:VEVENT
DTSTART;TZID=America/Chicago:20260624T120000
DTEND;TZID=America/Chicago:20260624T130000
DTSTAMP:20260424T011328
CREATED:20260424T021025Z
LAST-MODIFIED:20260424T021025Z
UID:10038704-1782302400-1782306000@fargomom.com
SUMMARY:Yoga on the Lawn with Mojo Fit Studios
DESCRIPTION:Join us for FREE Yoga on the Lawn at The Lights! This vinyasa style yoga class is open to all ages and abilities. Class will incorporate breathe to movement and some deeper stretches for a balanced practice that supports body and mind. Please bring a mat (or towel)\, water\, and your sunglasses.\nWe kindly ask for preregistration to properly plan and communicate any weather changes should they arise.
URL:https://fargomom.com/event/yoga-on-the-lawn-with-mojo-fit-studios/2026-06-24/
LOCATION:The Lights at Sheyenne
CATEGORIES:Summer Event
END:VEVENT
BEGIN:VEVENT
DTSTART;TZID=America/Chicago:20260708T120000
DTEND;TZID=America/Chicago:20260708T130000
DTSTAMP:20260424T011328
CREATED:20260424T021025Z
LAST-MODIFIED:20260424T021717Z
UID:10038705-1783512000-1783515600@fargomom.com
SUMMARY:Yoga on the Lawn with Mojo Fit Studios
DESCRIPTION:Join us for FREE Yoga on the Lawn at The Lights! This vinyasa style yoga class is open to all ages and abilities. Class will incorporate breathe to movement and some deeper stretches for a balanced practice that supports body and mind. Please bring a mat (or towel)\, water\, and your sunglasses.\nWe kindly ask for preregistration to properly plan and communicate any weather changes should they arise.
URL:https://fargomom.com/event/yoga-on-the-lawn-with-mojo-fit-studios/2026-07-08/
LOCATION:The Lights at Sheyenne
CATEGORIES:Summer Event
END:VEVENT
BEGIN:VEVENT
DTSTART;TZID=America/Chicago:20260715T120000
DTEND;TZID=America/Chicago:20260715T130000
DTSTAMP:20260424T011328
CREATED:20260424T021025Z
LAST-MODIFIED:20260424T021025Z
UID:10038706-1784116800-1784120400@fargomom.com
SUMMARY:Yoga on the Lawn with Mojo Fit Studios
DESCRIPTION:Join us for FREE Yoga on the Lawn at The Lights! This vinyasa style yoga class is open to all ages and abilities. Class will incorporate breathe to movement and some deeper stretches for a balanced practice that supports body and mind. Please bring a mat (or towel)\, water\, and your sunglasses.\nWe kindly ask for preregistration to properly plan and communicate any weather changes should they arise.
URL:https://fargomom.com/event/yoga-on-the-lawn-with-mojo-fit-studios/2026-07-15/
LOCATION:The Lights at Sheyenne
CATEGORIES:Summer Event
END:VEVENT
BEGIN:VEVENT
DTSTART;TZID=America/Chicago:20260729T120000
DTEND;TZID=America/Chicago:20260729T130000
DTSTAMP:20260424T011328
CREATED:20260424T021025Z
LAST-MODIFIED:20260424T021025Z
UID:10038707-1785326400-1785330000@fargomom.com
SUMMARY:Yoga on the Lawn with Mojo Fit Studios
DESCRIPTION:Join us for FREE Yoga on the Lawn at The Lights! This vinyasa style yoga class is open to all ages and abilities. Class will incorporate breathe to movement and some deeper stretches for a balanced practice that supports body and mind. Please bring a mat (or towel)\, water\, and your sunglasses.\nWe kindly ask for preregistration to properly plan and communicate any weather changes should they arise.
URL:https://fargomom.com/event/yoga-on-the-lawn-with-mojo-fit-studios/2026-07-29/
LOCATION:The Lights at Sheyenne
CATEGORIES:Summer Event
END:VEVENT
BEGIN:VEVENT
DTSTART;TZID=America/Chicago:20260805T125000
DTEND;TZID=America/Chicago:20260805T155000
DTSTAMP:20260424T011328
CREATED:20260424T021025Z
LAST-MODIFIED:20260424T021717Z
UID:10038712-1785934200-1785945000@fargomom.com
SUMMARY:Yoga on the Lawn with Mojo Fit Studios
DESCRIPTION:Join us for FREE Yoga on the Lawn at The Lights! This vinyasa style yoga class is open to all ages and abilities. Class will incorporate breathe to movement and some deeper stretches for a balanced practice that supports body and mind. Please bring a mat (or towel)\, water\, and your sunglasses.\nWe kindly ask for preregistration to properly plan and communicate any weather changes should they arise.
URL:https://fargomom.com/event/yoga-on-the-lawn-with-mojo-fit-studios/2026-08-05/
LOCATION:The Lights at Sheyenne
CATEGORIES:Summer Event
END:VEVENT
BEGIN:VEVENT
DTSTART;TZID=America/Chicago:20260819T120000
DTEND;TZID=America/Chicago:20260819T130000
DTSTAMP:20260424T011328
CREATED:20260424T021025Z
LAST-MODIFIED:20260424T021025Z
UID:10038709-1787140800-1787144400@fargomom.com
SUMMARY:Yoga on the Lawn with Mojo Fit Studios
DESCRIPTION:Join us for FREE Yoga on the Lawn at The Lights! This vinyasa style yoga class is open to all ages and abilities. Class will incorporate breathe to movement and some deeper stretches for a balanced practice that supports body and mind. Please bring a mat (or towel)\, water\, and your sunglasses.\nWe kindly ask for preregistration to properly plan and communicate any weather changes should they arise.
URL:https://fargomom.com/event/yoga-on-the-lawn-with-mojo-fit-studios/2026-08-19/
LOCATION:The Lights at Sheyenne
CATEGORIES:Summer Event
END:VEVENT
END:VCALENDAR