BEGIN:VCALENDAR
VERSION:2.0
PRODID:-//Fargo Mom - ECPv6.15.20//NONSGML v1.0//EN
CALSCALE:GREGORIAN
METHOD:PUBLISH
X-WR-CALNAME:Fargo Mom
X-ORIGINAL-URL:https://fargomom.com
X-WR-CALDESC:Events for Fargo Mom
REFRESH-INTERVAL;VALUE=DURATION:PT1H
X-Robots-Tag:noindex
X-PUBLISHED-TTL:PT1H
BEGIN:VTIMEZONE
TZID:America/Chicago
BEGIN:DAYLIGHT
TZOFFSETFROM:-0600
TZOFFSETTO:-0500
TZNAME:CDT
DTSTART:20250309T080000
END:DAYLIGHT
BEGIN:STANDARD
TZOFFSETFROM:-0500
TZOFFSETTO:-0600
TZNAME:CST
DTSTART:20251102T070000
END:STANDARD
BEGIN:DAYLIGHT
TZOFFSETFROM:-0600
TZOFFSETTO:-0500
TZNAME:CDT
DTSTART:20260308T080000
END:DAYLIGHT
BEGIN:STANDARD
TZOFFSETFROM:-0500
TZOFFSETTO:-0600
TZNAME:CST
DTSTART:20261101T070000
END:STANDARD
BEGIN:DAYLIGHT
TZOFFSETFROM:-0600
TZOFFSETTO:-0500
TZNAME:CDT
DTSTART:20270314T080000
END:DAYLIGHT
BEGIN:STANDARD
TZOFFSETFROM:-0500
TZOFFSETTO:-0600
TZNAME:CST
DTSTART:20271107T070000
END:STANDARD
END:VTIMEZONE
BEGIN:VEVENT
DTSTART;TZID=America/Chicago:20260502T120000
DTEND;TZID=America/Chicago:20260502T170000
DTSTAMP:20260424T013739
CREATED:20260423T144654Z
LAST-MODIFIED:20260423T144654Z
UID:10038691-1777723200-1777741200@fargomom.com
SUMMARY:Parade of Homes Spring Edition
DESCRIPTION:The Building Industry Association of the RRV invites you to the Parade of Homes Spring Edition 2026!\nIt’s the first two weekends in May + Mondays and offers a scattered-site tour of newly built homes across six communities.\nDates: May 2-4 and 9-11Hours: Noon – 5 p.m. Sat/Sun and 3 – 7 p.m. Mon\nThe official event magazine will be available free of charge at all Hornbacher’s April 27.\nSince its inception in the fall of 1961\, this community event has been a pillar of our region\, rooted in the vision of local trendsetters in the construction industry. Over the decades\, the Parade has grown into a celebration of craftsmanship and creativity\, reflecting the spirit of home building in our community.\nADMISSIONAdmission is free to most homes. There is a $5 ticket to visit both luxurious featured homes by Hawthorne Custom Homes and Klein Custom Homes: use cash or Venmo to purchase your ticket at either home.\nPARADEFM.COMVisit paradefm.com to see maps plus more. The site is mobile ready for you to tap into driving directions\, photos\, video links\, participant bios and home descriptions. Home listings will be live in mid-April.\nMOTHER’S DAY BINGOBack for the third year\, we’re turning the Parade of Homes Spring Edition into a fun-filled bingo adventure! Since Mother’s Day is during the Parade\, we’ve curated three special giveaway bundles. Read more in the magazine or at paradefm.com!\nTHANK YOU SPONSORS!*Title sponsor: Fargo Glass & Paint Company with Novatech*Development Sponsor: Rivers Edge\, Cub Creek\, Hampton Place*Choice Sponsors: First International Bank and Trust | Forum Communications Printing*Appliance Sponsor: Rigels*Moving Sponsor: Two Men and a Truck*Painting & Drywall Sponsor: Weyer Companies
URL:https://fargomom.com/event/parade-of-homes-spring-edition/2026-05-02/
LOCATION:Fargo/Moorhead
END:VEVENT
BEGIN:VEVENT
DTSTART;TZID=America/Chicago:20260503T120000
DTEND;TZID=America/Chicago:20260503T170000
DTSTAMP:20260424T013739
CREATED:20260423T144654Z
LAST-MODIFIED:20260423T144654Z
UID:10038692-1777809600-1777827600@fargomom.com
SUMMARY:Parade of Homes Spring Edition
DESCRIPTION:The Building Industry Association of the RRV invites you to the Parade of Homes Spring Edition 2026!\nIt’s the first two weekends in May + Mondays and offers a scattered-site tour of newly built homes across six communities.\nDates: May 2-4 and 9-11Hours: Noon – 5 p.m. Sat/Sun and 3 – 7 p.m. Mon\nThe official event magazine will be available free of charge at all Hornbacher’s April 27.\nSince its inception in the fall of 1961\, this community event has been a pillar of our region\, rooted in the vision of local trendsetters in the construction industry. Over the decades\, the Parade has grown into a celebration of craftsmanship and creativity\, reflecting the spirit of home building in our community.\nADMISSIONAdmission is free to most homes. There is a $5 ticket to visit both luxurious featured homes by Hawthorne Custom Homes and Klein Custom Homes: use cash or Venmo to purchase your ticket at either home.\nPARADEFM.COMVisit paradefm.com to see maps plus more. The site is mobile ready for you to tap into driving directions\, photos\, video links\, participant bios and home descriptions. Home listings will be live in mid-April.\nMOTHER’S DAY BINGOBack for the third year\, we’re turning the Parade of Homes Spring Edition into a fun-filled bingo adventure! Since Mother’s Day is during the Parade\, we’ve curated three special giveaway bundles. Read more in the magazine or at paradefm.com!\nTHANK YOU SPONSORS!*Title sponsor: Fargo Glass & Paint Company with Novatech*Development Sponsor: Rivers Edge\, Cub Creek\, Hampton Place*Choice Sponsors: First International Bank and Trust | Forum Communications Printing*Appliance Sponsor: Rigels*Moving Sponsor: Two Men and a Truck*Painting & Drywall Sponsor: Weyer Companies
URL:https://fargomom.com/event/parade-of-homes-spring-edition/2026-05-03/
LOCATION:Fargo/Moorhead
END:VEVENT
BEGIN:VEVENT
DTSTART;TZID=America/Chicago:20260504T150000
DTEND;TZID=America/Chicago:20260504T190000
DTSTAMP:20260424T013739
CREATED:20260423T144654Z
LAST-MODIFIED:20260423T144654Z
UID:10038693-1777906800-1777921200@fargomom.com
SUMMARY:Parade of Homes Spring Edition
DESCRIPTION:The Building Industry Association of the RRV invites you to the Parade of Homes Spring Edition 2026!\nIt’s the first two weekends in May + Mondays and offers a scattered-site tour of newly built homes across six communities.\nDates: May 2-4 and 9-11Hours: Noon – 5 p.m. Sat/Sun and 3 – 7 p.m. Mon\nThe official event magazine will be available free of charge at all Hornbacher’s April 27.\nSince its inception in the fall of 1961\, this community event has been a pillar of our region\, rooted in the vision of local trendsetters in the construction industry. Over the decades\, the Parade has grown into a celebration of craftsmanship and creativity\, reflecting the spirit of home building in our community.\nADMISSIONAdmission is free to most homes. There is a $5 ticket to visit both luxurious featured homes by Hawthorne Custom Homes and Klein Custom Homes: use cash or Venmo to purchase your ticket at either home.\nPARADEFM.COMVisit paradefm.com to see maps plus more. The site is mobile ready for you to tap into driving directions\, photos\, video links\, participant bios and home descriptions. Home listings will be live in mid-April.\nMOTHER’S DAY BINGOBack for the third year\, we’re turning the Parade of Homes Spring Edition into a fun-filled bingo adventure! Since Mother’s Day is during the Parade\, we’ve curated three special giveaway bundles. Read more in the magazine or at paradefm.com!\nTHANK YOU SPONSORS!*Title sponsor: Fargo Glass & Paint Company with Novatech*Development Sponsor: Rivers Edge\, Cub Creek\, Hampton Place*Choice Sponsors: First International Bank and Trust | Forum Communications Printing*Appliance Sponsor: Rigels*Moving Sponsor: Two Men and a Truck*Painting & Drywall Sponsor: Weyer Companies
URL:https://fargomom.com/event/parade-of-homes-spring-edition/2026-05-04/
LOCATION:Fargo/Moorhead
END:VEVENT
BEGIN:VEVENT
DTSTART;TZID=America/Chicago:20260509T120000
DTEND;TZID=America/Chicago:20260509T170000
DTSTAMP:20260424T013739
CREATED:20260423T144654Z
LAST-MODIFIED:20260423T144654Z
UID:10038694-1778328000-1778346000@fargomom.com
SUMMARY:Parade of Homes Spring Edition
DESCRIPTION:The Building Industry Association of the RRV invites you to the Parade of Homes Spring Edition 2026!\nIt’s the first two weekends in May + Mondays and offers a scattered-site tour of newly built homes across six communities.\nDates: May 2-4 and 9-11Hours: Noon – 5 p.m. Sat/Sun and 3 – 7 p.m. Mon\nThe official event magazine will be available free of charge at all Hornbacher’s April 27.\nSince its inception in the fall of 1961\, this community event has been a pillar of our region\, rooted in the vision of local trendsetters in the construction industry. Over the decades\, the Parade has grown into a celebration of craftsmanship and creativity\, reflecting the spirit of home building in our community.\nADMISSIONAdmission is free to most homes. There is a $5 ticket to visit both luxurious featured homes by Hawthorne Custom Homes and Klein Custom Homes: use cash or Venmo to purchase your ticket at either home.\nPARADEFM.COMVisit paradefm.com to see maps plus more. The site is mobile ready for you to tap into driving directions\, photos\, video links\, participant bios and home descriptions. Home listings will be live in mid-April.\nMOTHER’S DAY BINGOBack for the third year\, we’re turning the Parade of Homes Spring Edition into a fun-filled bingo adventure! Since Mother’s Day is during the Parade\, we’ve curated three special giveaway bundles. Read more in the magazine or at paradefm.com!\nTHANK YOU SPONSORS!*Title sponsor: Fargo Glass & Paint Company with Novatech*Development Sponsor: Rivers Edge\, Cub Creek\, Hampton Place*Choice Sponsors: First International Bank and Trust | Forum Communications Printing*Appliance Sponsor: Rigels*Moving Sponsor: Two Men and a Truck*Painting & Drywall Sponsor: Weyer Companies
URL:https://fargomom.com/event/parade-of-homes-spring-edition/2026-05-09/
LOCATION:Fargo/Moorhead
END:VEVENT
BEGIN:VEVENT
DTSTART;TZID=America/Chicago:20260510T120000
DTEND;TZID=America/Chicago:20260510T170000
DTSTAMP:20260424T013739
CREATED:20260423T144654Z
LAST-MODIFIED:20260423T144654Z
UID:10038695-1778414400-1778432400@fargomom.com
SUMMARY:Parade of Homes Spring Edition
DESCRIPTION:The Building Industry Association of the RRV invites you to the Parade of Homes Spring Edition 2026!\nIt’s the first two weekends in May + Mondays and offers a scattered-site tour of newly built homes across six communities.\nDates: May 2-4 and 9-11Hours: Noon – 5 p.m. Sat/Sun and 3 – 7 p.m. Mon\nThe official event magazine will be available free of charge at all Hornbacher’s April 27.\nSince its inception in the fall of 1961\, this community event has been a pillar of our region\, rooted in the vision of local trendsetters in the construction industry. Over the decades\, the Parade has grown into a celebration of craftsmanship and creativity\, reflecting the spirit of home building in our community.\nADMISSIONAdmission is free to most homes. There is a $5 ticket to visit both luxurious featured homes by Hawthorne Custom Homes and Klein Custom Homes: use cash or Venmo to purchase your ticket at either home.\nPARADEFM.COMVisit paradefm.com to see maps plus more. The site is mobile ready for you to tap into driving directions\, photos\, video links\, participant bios and home descriptions. Home listings will be live in mid-April.\nMOTHER’S DAY BINGOBack for the third year\, we’re turning the Parade of Homes Spring Edition into a fun-filled bingo adventure! Since Mother’s Day is during the Parade\, we’ve curated three special giveaway bundles. Read more in the magazine or at paradefm.com!\nTHANK YOU SPONSORS!*Title sponsor: Fargo Glass & Paint Company with Novatech*Development Sponsor: Rivers Edge\, Cub Creek\, Hampton Place*Choice Sponsors: First International Bank and Trust | Forum Communications Printing*Appliance Sponsor: Rigels*Moving Sponsor: Two Men and a Truck*Painting & Drywall Sponsor: Weyer Companies
URL:https://fargomom.com/event/parade-of-homes-spring-edition/2026-05-10/
LOCATION:Fargo/Moorhead
END:VEVENT
BEGIN:VEVENT
DTSTART;TZID=America/Chicago:20260511T150000
DTEND;TZID=America/Chicago:20260511T190000
DTSTAMP:20260424T013739
CREATED:20260423T144654Z
LAST-MODIFIED:20260423T144654Z
UID:10038696-1778511600-1778526000@fargomom.com
SUMMARY:Parade of Homes Spring Edition
DESCRIPTION:The Building Industry Association of the RRV invites you to the Parade of Homes Spring Edition 2026!\nIt’s the first two weekends in May + Mondays and offers a scattered-site tour of newly built homes across six communities.\nDates: May 2-4 and 9-11Hours: Noon – 5 p.m. Sat/Sun and 3 – 7 p.m. Mon\nThe official event magazine will be available free of charge at all Hornbacher’s April 27.\nSince its inception in the fall of 1961\, this community event has been a pillar of our region\, rooted in the vision of local trendsetters in the construction industry. Over the decades\, the Parade has grown into a celebration of craftsmanship and creativity\, reflecting the spirit of home building in our community.\nADMISSIONAdmission is free to most homes. There is a $5 ticket to visit both luxurious featured homes by Hawthorne Custom Homes and Klein Custom Homes: use cash or Venmo to purchase your ticket at either home.\nPARADEFM.COMVisit paradefm.com to see maps plus more. The site is mobile ready for you to tap into driving directions\, photos\, video links\, participant bios and home descriptions. Home listings will be live in mid-April.\nMOTHER’S DAY BINGOBack for the third year\, we’re turning the Parade of Homes Spring Edition into a fun-filled bingo adventure! Since Mother’s Day is during the Parade\, we’ve curated three special giveaway bundles. Read more in the magazine or at paradefm.com!\nTHANK YOU SPONSORS!*Title sponsor: Fargo Glass & Paint Company with Novatech*Development Sponsor: Rivers Edge\, Cub Creek\, Hampton Place*Choice Sponsors: First International Bank and Trust | Forum Communications Printing*Appliance Sponsor: Rigels*Moving Sponsor: Two Men and a Truck*Painting & Drywall Sponsor: Weyer Companies
URL:https://fargomom.com/event/parade-of-homes-spring-edition/2026-05-11/
LOCATION:Fargo/Moorhead
END:VEVENT
END:VCALENDAR