BEGIN:VCALENDAR
VERSION:2.0
PRODID:-//Fargo Mom - ECPv6.15.20//NONSGML v1.0//EN
CALSCALE:GREGORIAN
METHOD:PUBLISH
X-WR-CALNAME:Fargo Mom
X-ORIGINAL-URL:https://fargomom.com
X-WR-CALDESC:Events for Fargo Mom
REFRESH-INTERVAL;VALUE=DURATION:PT1H
X-Robots-Tag:noindex
X-PUBLISHED-TTL:PT1H
BEGIN:VTIMEZONE
TZID:America/Chicago
BEGIN:DAYLIGHT
TZOFFSETFROM:-0600
TZOFFSETTO:-0500
TZNAME:CDT
DTSTART:20250309T080000
END:DAYLIGHT
BEGIN:STANDARD
TZOFFSETFROM:-0500
TZOFFSETTO:-0600
TZNAME:CST
DTSTART:20251102T070000
END:STANDARD
BEGIN:DAYLIGHT
TZOFFSETFROM:-0600
TZOFFSETTO:-0500
TZNAME:CDT
DTSTART:20260308T080000
END:DAYLIGHT
BEGIN:STANDARD
TZOFFSETFROM:-0500
TZOFFSETTO:-0600
TZNAME:CST
DTSTART:20261101T070000
END:STANDARD
BEGIN:DAYLIGHT
TZOFFSETFROM:-0600
TZOFFSETTO:-0500
TZNAME:CDT
DTSTART:20270314T080000
END:DAYLIGHT
BEGIN:STANDARD
TZOFFSETFROM:-0500
TZOFFSETTO:-0600
TZNAME:CST
DTSTART:20271107T070000
END:STANDARD
END:VTIMEZONE
BEGIN:VEVENT
DTSTART;TZID=America/Chicago:20260518T150000
DTEND;TZID=America/Chicago:20260518T190000
DTSTAMP:20260424T031817
CREATED:20260423T020538Z
LAST-MODIFIED:20260423T020538Z
UID:10038686-1779116400-1779130800@fargomom.com
SUMMARY:SCHEELS Home & Hardware LEGO® Star Wars Build Event
DESCRIPTION:Join us for a FREE LEGO® Star Wars Build Event at SCHEELS Home & Hardware! Kids will receive a SCHEELS-exclusive LEGO® Star Wars Grogu® build to create.  \n Monday\, May 18th & Tuesday\, May 19th 3-7PM. Please show up at your selected time slot\, so we have space for every builder Cafe Robert inside SCHEELS Home & Hardware Parent or guardian must stay at the event while their child participates. Recommended age is 6+\, but all are welcome! Please reserve a ticket only for the participating child or children. Parents and guardians do not need a ticket. https://tinyurl.com/yck565w2\nWe can’t wait to see all the little builders there!
URL:https://fargomom.com/event/scheels-home-hardware-lego-star-wars-build-event/2026-05-18/
LOCATION:Scheels Home & Hardware\, 3202 13th Ave S\, Fargo\, ND
END:VEVENT
BEGIN:VEVENT
DTSTART;TZID=America/Chicago:20260519T150000
DTEND;TZID=America/Chicago:20260519T190000
DTSTAMP:20260424T031817
CREATED:20260423T020538Z
LAST-MODIFIED:20260423T020538Z
UID:10038687-1779202800-1779217200@fargomom.com
SUMMARY:SCHEELS Home & Hardware LEGO® Star Wars Build Event
DESCRIPTION:Join us for a FREE LEGO® Star Wars Build Event at SCHEELS Home & Hardware! Kids will receive a SCHEELS-exclusive LEGO® Star Wars Grogu® build to create.  \n Monday\, May 18th & Tuesday\, May 19th 3-7PM. Please show up at your selected time slot\, so we have space for every builder Cafe Robert inside SCHEELS Home & Hardware Parent or guardian must stay at the event while their child participates. Recommended age is 6+\, but all are welcome! Please reserve a ticket only for the participating child or children. Parents and guardians do not need a ticket. https://tinyurl.com/yck565w2\nWe can’t wait to see all the little builders there!
URL:https://fargomom.com/event/scheels-home-hardware-lego-star-wars-build-event/2026-05-19/
LOCATION:Scheels Home & Hardware\, 3202 13th Ave S\, Fargo\, ND
END:VEVENT
END:VCALENDAR