BEGIN:VCALENDAR
VERSION:2.0
PRODID:-//Fargo Mom - ECPv6.15.20//NONSGML v1.0//EN
CALSCALE:GREGORIAN
METHOD:PUBLISH
X-WR-CALNAME:Fargo Mom
X-ORIGINAL-URL:https://fargomom.com
X-WR-CALDESC:Events for Fargo Mom
REFRESH-INTERVAL;VALUE=DURATION:PT1H
X-Robots-Tag:noindex
X-PUBLISHED-TTL:PT1H
BEGIN:VTIMEZONE
TZID:America/Chicago
BEGIN:DAYLIGHT
TZOFFSETFROM:-0600
TZOFFSETTO:-0500
TZNAME:CDT
DTSTART:20250309T080000
END:DAYLIGHT
BEGIN:STANDARD
TZOFFSETFROM:-0500
TZOFFSETTO:-0600
TZNAME:CST
DTSTART:20251102T070000
END:STANDARD
BEGIN:DAYLIGHT
TZOFFSETFROM:-0600
TZOFFSETTO:-0500
TZNAME:CDT
DTSTART:20260308T080000
END:DAYLIGHT
BEGIN:STANDARD
TZOFFSETFROM:-0500
TZOFFSETTO:-0600
TZNAME:CST
DTSTART:20261101T070000
END:STANDARD
BEGIN:DAYLIGHT
TZOFFSETFROM:-0600
TZOFFSETTO:-0500
TZNAME:CDT
DTSTART:20270314T080000
END:DAYLIGHT
BEGIN:STANDARD
TZOFFSETFROM:-0500
TZOFFSETTO:-0600
TZNAME:CST
DTSTART:20271107T070000
END:STANDARD
END:VTIMEZONE
BEGIN:VEVENT
DTSTART;TZID=America/Chicago:20260509T100000
DTEND;TZID=America/Chicago:20260509T180000
DTSTAMP:20260424T064326
CREATED:20260421T014849Z
LAST-MODIFIED:20260421T014849Z
UID:10038649-1778320800-1778349600@fargomom.com
SUMMARY:Mother's Day at Holland's
DESCRIPTION:Join us this weekend as we celebrate Mom! Gorgeous flowers\, plants\, and all the pretty things that moms want. We will have Face painting from 11AM-2PM on Sunday! We are serving complimentary Prosecco & Sparkling Lemonade Sunday and kids can paint and plant a pot for Mom on Sunday. Specials throughout the weekend. Open Saturday 10-6 & Sunday 11-5. This event is free and open to everyone.
URL:https://fargomom.com/event/mothers-day-at-hollands/2026-05-09/
LOCATION:Holland’s\, 420 University Dr N\, Fargo\, ND
END:VEVENT
BEGIN:VEVENT
DTSTART;TZID=America/Chicago:20260510T110000
DTEND;TZID=America/Chicago:20260510T170000
DTSTAMP:20260424T064326
CREATED:20260421T014849Z
LAST-MODIFIED:20260421T014849Z
UID:10038650-1778410800-1778432400@fargomom.com
SUMMARY:Mother's Day at Holland's
DESCRIPTION:Join us this weekend as we celebrate Mom! Gorgeous flowers\, plants\, and all the pretty things that moms want. We will have Face painting from 11AM-2PM on Sunday! We are serving complimentary Prosecco & Sparkling Lemonade Sunday and kids can paint and plant a pot for Mom on Sunday. Specials throughout the weekend. Open Saturday 10-6 & Sunday 11-5. This event is free and open to everyone.
URL:https://fargomom.com/event/mothers-day-at-hollands/2026-05-10/
LOCATION:Holland’s\, 420 University Dr N\, Fargo\, ND
END:VEVENT
END:VCALENDAR