BEGIN:VCALENDAR
VERSION:2.0
PRODID:-//Fargo Mom - ECPv6.15.20//NONSGML v1.0//EN
CALSCALE:GREGORIAN
METHOD:PUBLISH
X-WR-CALNAME:Fargo Mom
X-ORIGINAL-URL:https://fargomom.com
X-WR-CALDESC:Events for Fargo Mom
REFRESH-INTERVAL;VALUE=DURATION:PT1H
X-Robots-Tag:noindex
X-PUBLISHED-TTL:PT1H
BEGIN:VTIMEZONE
TZID:America/Chicago
BEGIN:DAYLIGHT
TZOFFSETFROM:-0600
TZOFFSETTO:-0500
TZNAME:CDT
DTSTART:20250309T080000
END:DAYLIGHT
BEGIN:STANDARD
TZOFFSETFROM:-0500
TZOFFSETTO:-0600
TZNAME:CST
DTSTART:20251102T070000
END:STANDARD
BEGIN:DAYLIGHT
TZOFFSETFROM:-0600
TZOFFSETTO:-0500
TZNAME:CDT
DTSTART:20260308T080000
END:DAYLIGHT
BEGIN:STANDARD
TZOFFSETFROM:-0500
TZOFFSETTO:-0600
TZNAME:CST
DTSTART:20261101T070000
END:STANDARD
BEGIN:DAYLIGHT
TZOFFSETFROM:-0600
TZOFFSETTO:-0500
TZNAME:CDT
DTSTART:20270314T080000
END:DAYLIGHT
BEGIN:STANDARD
TZOFFSETFROM:-0500
TZOFFSETTO:-0600
TZNAME:CST
DTSTART:20271107T070000
END:STANDARD
END:VTIMEZONE
BEGIN:VEVENT
DTSTART;TZID=America/Chicago:20260425T090000
DTEND;TZID=America/Chicago:20260425T180000
DTSTAMP:20260421T070251
CREATED:20260420T152854Z
LAST-MODIFIED:20260420T152854Z
UID:10038644-1777107600-1777140000@fargomom.com
SUMMARY:Valley Vintage Car Show
DESCRIPTION:The Countdown is on! Is your vehicle ready? Check out our website for Registration information. valleyvintage.net Hope to see you there!
URL:https://fargomom.com/event/valley-vintage-car-show/2026-04-25/
LOCATION:Veteran’s Memorial Arena\, 1201 7th Ave E\, West Fargo\, ND
END:VEVENT
BEGIN:VEVENT
DTSTART;TZID=America/Chicago:20260426T090000
DTEND;TZID=America/Chicago:20260426T160000
DTSTAMP:20260421T070251
CREATED:20260420T152854Z
LAST-MODIFIED:20260420T152854Z
UID:10038645-1777194000-1777219200@fargomom.com
SUMMARY:Valley Vintage Car Show
DESCRIPTION:The Countdown is on! Is your vehicle ready? Check out our website for Registration information. valleyvintage.net Hope to see you there!
URL:https://fargomom.com/event/valley-vintage-car-show/2026-04-26/
LOCATION:Veteran’s Memorial Arena\, 1201 7th Ave E\, West Fargo\, ND
END:VEVENT
END:VCALENDAR