BEGIN:VCALENDAR
VERSION:2.0
PRODID:-//Fargo Mom - ECPv6.15.20//NONSGML v1.0//EN
CALSCALE:GREGORIAN
METHOD:PUBLISH
X-WR-CALNAME:Fargo Mom
X-ORIGINAL-URL:https://fargomom.com
X-WR-CALDESC:Events for Fargo Mom
REFRESH-INTERVAL;VALUE=DURATION:PT1H
X-Robots-Tag:noindex
X-PUBLISHED-TTL:PT1H
BEGIN:VTIMEZONE
TZID:America/Chicago
BEGIN:DAYLIGHT
TZOFFSETFROM:-0600
TZOFFSETTO:-0500
TZNAME:CDT
DTSTART:20250309T080000
END:DAYLIGHT
BEGIN:STANDARD
TZOFFSETFROM:-0500
TZOFFSETTO:-0600
TZNAME:CST
DTSTART:20251102T070000
END:STANDARD
BEGIN:DAYLIGHT
TZOFFSETFROM:-0600
TZOFFSETTO:-0500
TZNAME:CDT
DTSTART:20260308T080000
END:DAYLIGHT
BEGIN:STANDARD
TZOFFSETFROM:-0500
TZOFFSETTO:-0600
TZNAME:CST
DTSTART:20261101T070000
END:STANDARD
BEGIN:DAYLIGHT
TZOFFSETFROM:-0600
TZOFFSETTO:-0500
TZNAME:CDT
DTSTART:20270314T080000
END:DAYLIGHT
BEGIN:STANDARD
TZOFFSETFROM:-0500
TZOFFSETTO:-0600
TZNAME:CST
DTSTART:20271107T070000
END:STANDARD
END:VTIMEZONE
BEGIN:VEVENT
DTSTART;TZID=America/Chicago:20260423T170000
DTEND;TZID=America/Chicago:20260423T200000
DTSTAMP:20260421T070250
CREATED:20260420T152048Z
LAST-MODIFIED:20260420T152048Z
UID:10038638-1776963600-1776974400@fargomom.com
SUMMARY:Friends of the Moorhead Library Book Sale
DESCRIPTION:Celebrate National Library Week 2026 by discovering incredible deals\, supporting your local Friends of Libraries groups and winning prizes. The Friends of the Moorhead Library have teamed up with other area Friends of the Library groups for a Metro-wide Used Book Sale Crawl.\n\nWhether you’re a collector\, a casual reader\, or shopping for the family\, this is the ultimate weekend for book lovers — plus you can shop our first book sale at the new Moorhead Library!\n\n>> Friends of the Moorhead Library Book SaleMoorhead Public Library\, 450 Center Ave.\, MoorheadThursday\, April 23: 5-8 p.m.Friday\, April 24: 10 a.m.-5 p.m.Saturday\, April 25: 10 a.m.-5 p.m. (Bag Sale)Payment Options: Cash\, Check\, Credit Card and Venmo\n\nVisit all participating libraries to maximize your savings!\n\n>> Friends of the Fargo Public Library Book Sales\nMain Library: 101 4th St. N.Northport Branch: 2714 N. BroadwayDr. James Carlson Branch: 281 32nd Ave. S.Thursday\, April 23: 10 a.m.–7:30 p.m.Friday\, April 24: 11 a.m.–5:30 p.m.Saturday\, April 25: 9 a.m.–3 p.m. (Bag Sale)Payment Options: Cash\, Check\, and Venmo\n\n>> Friends of the West Fargo Public Library Book SaleWest Fargo Public Library\, 215 3rd St. E.\, West FargoSaturday\, April 25: 10 a.m. –3:30 p.m.1:30–3:30 p.m. (Bag Sale)Payment Options: Cash\, Check\, and Credit Card\n\n*Complete the book sale crawl to enter the drawing!*\nGrab a Book Sale Crawl Punch Card at any location! Complete your crawl and enter the drawing for a chance to win a $25 Visa gift card\, $25 Junkyard Brewing (West Fargo) gift card or $25 Rustica gift card.\n\nBook sales will help the three Friends organizations fund library programming in their respective community.
URL:https://fargomom.com/event/friends-of-the-moorhead-library-book-sale/2026-04-23/
LOCATION:Moorhead Public Library\, 450 Center Ave\, Moorhead\, MN\, 56560
END:VEVENT
BEGIN:VEVENT
DTSTART;TZID=America/Chicago:20260424T100000
DTEND;TZID=America/Chicago:20260424T170000
DTSTAMP:20260421T070250
CREATED:20260420T152048Z
LAST-MODIFIED:20260420T152048Z
UID:10038639-1777024800-1777050000@fargomom.com
SUMMARY:Friends of the Moorhead Library Book Sale
DESCRIPTION:Celebrate National Library Week 2026 by discovering incredible deals\, supporting your local Friends of Libraries groups and winning prizes. The Friends of the Moorhead Library have teamed up with other area Friends of the Library groups for a Metro-wide Used Book Sale Crawl.\n\nWhether you’re a collector\, a casual reader\, or shopping for the family\, this is the ultimate weekend for book lovers — plus you can shop our first book sale at the new Moorhead Library!\n\n>> Friends of the Moorhead Library Book SaleMoorhead Public Library\, 450 Center Ave.\, MoorheadThursday\, April 23: 5-8 p.m.Friday\, April 24: 10 a.m.-5 p.m.Saturday\, April 25: 10 a.m.-5 p.m. (Bag Sale)Payment Options: Cash\, Check\, Credit Card and Venmo\n\nVisit all participating libraries to maximize your savings!\n\n>> Friends of the Fargo Public Library Book Sales\nMain Library: 101 4th St. N.Northport Branch: 2714 N. BroadwayDr. James Carlson Branch: 281 32nd Ave. S.Thursday\, April 23: 10 a.m.–7:30 p.m.Friday\, April 24: 11 a.m.–5:30 p.m.Saturday\, April 25: 9 a.m.–3 p.m. (Bag Sale)Payment Options: Cash\, Check\, and Venmo\n\n>> Friends of the West Fargo Public Library Book SaleWest Fargo Public Library\, 215 3rd St. E.\, West FargoSaturday\, April 25: 10 a.m. –3:30 p.m.1:30–3:30 p.m. (Bag Sale)Payment Options: Cash\, Check\, and Credit Card\n\n*Complete the book sale crawl to enter the drawing!*\nGrab a Book Sale Crawl Punch Card at any location! Complete your crawl and enter the drawing for a chance to win a $25 Visa gift card\, $25 Junkyard Brewing (West Fargo) gift card or $25 Rustica gift card.\n\nBook sales will help the three Friends organizations fund library programming in their respective community.
URL:https://fargomom.com/event/friends-of-the-moorhead-library-book-sale/2026-04-24/
LOCATION:Moorhead Public Library\, 450 Center Ave\, Moorhead\, MN\, 56560
END:VEVENT
BEGIN:VEVENT
DTSTART;TZID=America/Chicago:20260425T100000
DTEND;TZID=America/Chicago:20260425T170000
DTSTAMP:20260421T070250
CREATED:20260420T152048Z
LAST-MODIFIED:20260420T152048Z
UID:10038640-1777111200-1777136400@fargomom.com
SUMMARY:Friends of the Moorhead Library Book Sale
DESCRIPTION:Celebrate National Library Week 2026 by discovering incredible deals\, supporting your local Friends of Libraries groups and winning prizes. The Friends of the Moorhead Library have teamed up with other area Friends of the Library groups for a Metro-wide Used Book Sale Crawl.\n\nWhether you’re a collector\, a casual reader\, or shopping for the family\, this is the ultimate weekend for book lovers — plus you can shop our first book sale at the new Moorhead Library!\n\n>> Friends of the Moorhead Library Book SaleMoorhead Public Library\, 450 Center Ave.\, MoorheadThursday\, April 23: 5-8 p.m.Friday\, April 24: 10 a.m.-5 p.m.Saturday\, April 25: 10 a.m.-5 p.m. (Bag Sale)Payment Options: Cash\, Check\, Credit Card and Venmo\n\nVisit all participating libraries to maximize your savings!\n\n>> Friends of the Fargo Public Library Book Sales\nMain Library: 101 4th St. N.Northport Branch: 2714 N. BroadwayDr. James Carlson Branch: 281 32nd Ave. S.Thursday\, April 23: 10 a.m.–7:30 p.m.Friday\, April 24: 11 a.m.–5:30 p.m.Saturday\, April 25: 9 a.m.–3 p.m. (Bag Sale)Payment Options: Cash\, Check\, and Venmo\n\n>> Friends of the West Fargo Public Library Book SaleWest Fargo Public Library\, 215 3rd St. E.\, West FargoSaturday\, April 25: 10 a.m. –3:30 p.m.1:30–3:30 p.m. (Bag Sale)Payment Options: Cash\, Check\, and Credit Card\n\n*Complete the book sale crawl to enter the drawing!*\nGrab a Book Sale Crawl Punch Card at any location! Complete your crawl and enter the drawing for a chance to win a $25 Visa gift card\, $25 Junkyard Brewing (West Fargo) gift card or $25 Rustica gift card.\n\nBook sales will help the three Friends organizations fund library programming in their respective community.
URL:https://fargomom.com/event/friends-of-the-moorhead-library-book-sale/2026-04-25/
LOCATION:Moorhead Public Library\, 450 Center Ave\, Moorhead\, MN\, 56560
END:VEVENT
END:VCALENDAR