BEGIN:VCALENDAR
VERSION:2.0
PRODID:-//Fargo Mom - ECPv6.15.20//NONSGML v1.0//EN
CALSCALE:GREGORIAN
METHOD:PUBLISH
X-WR-CALNAME:Fargo Mom
X-ORIGINAL-URL:https://fargomom.com
X-WR-CALDESC:Events for Fargo Mom
REFRESH-INTERVAL;VALUE=DURATION:PT1H
X-Robots-Tag:noindex
X-PUBLISHED-TTL:PT1H
BEGIN:VTIMEZONE
TZID:America/Chicago
BEGIN:DAYLIGHT
TZOFFSETFROM:-0600
TZOFFSETTO:-0500
TZNAME:CDT
DTSTART:20250309T080000
END:DAYLIGHT
BEGIN:STANDARD
TZOFFSETFROM:-0500
TZOFFSETTO:-0600
TZNAME:CST
DTSTART:20251102T070000
END:STANDARD
BEGIN:DAYLIGHT
TZOFFSETFROM:-0600
TZOFFSETTO:-0500
TZNAME:CDT
DTSTART:20260308T080000
END:DAYLIGHT
BEGIN:STANDARD
TZOFFSETFROM:-0500
TZOFFSETTO:-0600
TZNAME:CST
DTSTART:20261101T070000
END:STANDARD
BEGIN:DAYLIGHT
TZOFFSETFROM:-0600
TZOFFSETTO:-0500
TZNAME:CDT
DTSTART:20270314T080000
END:DAYLIGHT
BEGIN:STANDARD
TZOFFSETFROM:-0500
TZOFFSETTO:-0600
TZNAME:CST
DTSTART:20271107T070000
END:STANDARD
END:VTIMEZONE
BEGIN:VEVENT
DTSTART;TZID=America/Chicago:20260711T100000
DTEND;TZID=America/Chicago:20260711T140000
DTSTAMP:20260422T081418
CREATED:20260216T030101Z
LAST-MODIFIED:20260324T015621Z
UID:10037802-1783764000-1783778400@fargomom.com
SUMMARY:Red River Market
DESCRIPTION:Red River Market creates a space for all people to experience the joys of locally grown food. \nRed River Market strives to support local farms and new and emerging food businesses\, to increase access to fresh\, locally grown produce\, to be a good steward of the planet\, and to create a sense of place where all are welcome.
URL:https://fargomom.com/event/red-river-market/2026-07-11/
LOCATION:Broadway Square\, 201 Broadway\, Fargo\, ND
CATEGORIES:Fall Event,Summer Event
END:VEVENT
BEGIN:VEVENT
DTSTART;TZID=America/Chicago:20260719T100000
DTEND;TZID=America/Chicago:20260719T140000
DTSTAMP:20260422T081418
CREATED:20260216T030101Z
LAST-MODIFIED:20260324T015621Z
UID:10037803-1784455200-1784469600@fargomom.com
SUMMARY:Red River Market
DESCRIPTION:Red River Market creates a space for all people to experience the joys of locally grown food. \nRed River Market strives to support local farms and new and emerging food businesses\, to increase access to fresh\, locally grown produce\, to be a good steward of the planet\, and to create a sense of place where all are welcome.
URL:https://fargomom.com/event/red-river-market/2026-07-19/
LOCATION:Broadway Square\, 201 Broadway\, Fargo\, ND
CATEGORIES:Fall Event,Summer Event
END:VEVENT
BEGIN:VEVENT
DTSTART;TZID=America/Chicago:20260725T100000
DTEND;TZID=America/Chicago:20260725T140000
DTSTAMP:20260422T081418
CREATED:20260216T030101Z
LAST-MODIFIED:20260324T015621Z
UID:10037804-1784973600-1784988000@fargomom.com
SUMMARY:Red River Market
DESCRIPTION:Red River Market creates a space for all people to experience the joys of locally grown food. \nRed River Market strives to support local farms and new and emerging food businesses\, to increase access to fresh\, locally grown produce\, to be a good steward of the planet\, and to create a sense of place where all are welcome.
URL:https://fargomom.com/event/red-river-market/2026-07-25/
LOCATION:Broadway Square\, 201 Broadway\, Fargo\, ND
CATEGORIES:Fall Event,Summer Event
END:VEVENT
BEGIN:VEVENT
DTSTART;TZID=America/Chicago:20260801T100000
DTEND;TZID=America/Chicago:20260801T140000
DTSTAMP:20260422T081418
CREATED:20260216T030101Z
LAST-MODIFIED:20260324T015621Z
UID:10037805-1785578400-1785592800@fargomom.com
SUMMARY:Red River Market
DESCRIPTION:Red River Market creates a space for all people to experience the joys of locally grown food. \nRed River Market strives to support local farms and new and emerging food businesses\, to increase access to fresh\, locally grown produce\, to be a good steward of the planet\, and to create a sense of place where all are welcome.
URL:https://fargomom.com/event/red-river-market/2026-08-01/
LOCATION:Broadway Square\, 201 Broadway\, Fargo\, ND
CATEGORIES:Fall Event,Summer Event
END:VEVENT
BEGIN:VEVENT
DTSTART;TZID=America/Chicago:20260808T100000
DTEND;TZID=America/Chicago:20260808T140000
DTSTAMP:20260422T081418
CREATED:20260216T030101Z
LAST-MODIFIED:20260324T015621Z
UID:10037806-1786183200-1786197600@fargomom.com
SUMMARY:Red River Market
DESCRIPTION:Red River Market creates a space for all people to experience the joys of locally grown food. \nRed River Market strives to support local farms and new and emerging food businesses\, to increase access to fresh\, locally grown produce\, to be a good steward of the planet\, and to create a sense of place where all are welcome.
URL:https://fargomom.com/event/red-river-market/2026-08-08/
LOCATION:Broadway Square\, 201 Broadway\, Fargo\, ND
CATEGORIES:Fall Event,Summer Event
END:VEVENT
BEGIN:VEVENT
DTSTART;TZID=America/Chicago:20260815T100000
DTEND;TZID=America/Chicago:20260815T140000
DTSTAMP:20260422T081418
CREATED:20260216T030101Z
LAST-MODIFIED:20260324T015621Z
UID:10037807-1786788000-1786802400@fargomom.com
SUMMARY:Red River Market
DESCRIPTION:Red River Market creates a space for all people to experience the joys of locally grown food. \nRed River Market strives to support local farms and new and emerging food businesses\, to increase access to fresh\, locally grown produce\, to be a good steward of the planet\, and to create a sense of place where all are welcome.
URL:https://fargomom.com/event/red-river-market/2026-08-15/
LOCATION:Broadway Square\, 201 Broadway\, Fargo\, ND
CATEGORIES:Fall Event,Summer Event
END:VEVENT
BEGIN:VEVENT
DTSTART;TZID=America/Chicago:20260822T100000
DTEND;TZID=America/Chicago:20260822T140000
DTSTAMP:20260422T081418
CREATED:20260216T030101Z
LAST-MODIFIED:20260324T015621Z
UID:10037808-1787392800-1787407200@fargomom.com
SUMMARY:Red River Market
DESCRIPTION:Red River Market creates a space for all people to experience the joys of locally grown food. \nRed River Market strives to support local farms and new and emerging food businesses\, to increase access to fresh\, locally grown produce\, to be a good steward of the planet\, and to create a sense of place where all are welcome.
URL:https://fargomom.com/event/red-river-market/2026-08-22/
LOCATION:Broadway Square\, 201 Broadway\, Fargo\, ND
CATEGORIES:Fall Event,Summer Event
END:VEVENT
BEGIN:VEVENT
DTSTART;TZID=America/Chicago:20260829T100000
DTEND;TZID=America/Chicago:20260829T140000
DTSTAMP:20260422T081418
CREATED:20260216T030101Z
LAST-MODIFIED:20260324T015621Z
UID:10037809-1787997600-1788012000@fargomom.com
SUMMARY:Red River Market
DESCRIPTION:Red River Market creates a space for all people to experience the joys of locally grown food. \nRed River Market strives to support local farms and new and emerging food businesses\, to increase access to fresh\, locally grown produce\, to be a good steward of the planet\, and to create a sense of place where all are welcome.
URL:https://fargomom.com/event/red-river-market/2026-08-29/
LOCATION:Broadway Square\, 201 Broadway\, Fargo\, ND
CATEGORIES:Fall Event,Summer Event
END:VEVENT
BEGIN:VEVENT
DTSTART;TZID=America/Chicago:20260905T100000
DTEND;TZID=America/Chicago:20260905T140000
DTSTAMP:20260422T081418
CREATED:20260216T030101Z
LAST-MODIFIED:20260324T015621Z
UID:10037810-1788602400-1788616800@fargomom.com
SUMMARY:Red River Market
DESCRIPTION:Red River Market creates a space for all people to experience the joys of locally grown food. \nRed River Market strives to support local farms and new and emerging food businesses\, to increase access to fresh\, locally grown produce\, to be a good steward of the planet\, and to create a sense of place where all are welcome.
URL:https://fargomom.com/event/red-river-market/2026-09-05/
LOCATION:Broadway Square\, 201 Broadway\, Fargo\, ND
CATEGORIES:Fall Event,Summer Event
END:VEVENT
BEGIN:VEVENT
DTSTART;TZID=America/Chicago:20260912T100000
DTEND;TZID=America/Chicago:20260912T140000
DTSTAMP:20260422T081418
CREATED:20260216T030101Z
LAST-MODIFIED:20260324T015621Z
UID:10037811-1789207200-1789221600@fargomom.com
SUMMARY:Red River Market
DESCRIPTION:Red River Market creates a space for all people to experience the joys of locally grown food. \nRed River Market strives to support local farms and new and emerging food businesses\, to increase access to fresh\, locally grown produce\, to be a good steward of the planet\, and to create a sense of place where all are welcome.
URL:https://fargomom.com/event/red-river-market/2026-09-12/
LOCATION:Broadway Square\, 201 Broadway\, Fargo\, ND
CATEGORIES:Fall Event,Summer Event
END:VEVENT
BEGIN:VEVENT
DTSTART;TZID=America/Chicago:20260919T100000
DTEND;TZID=America/Chicago:20260919T140000
DTSTAMP:20260422T081418
CREATED:20260216T030101Z
LAST-MODIFIED:20260324T015621Z
UID:10037812-1789812000-1789826400@fargomom.com
SUMMARY:Red River Market
DESCRIPTION:Red River Market creates a space for all people to experience the joys of locally grown food. \nRed River Market strives to support local farms and new and emerging food businesses\, to increase access to fresh\, locally grown produce\, to be a good steward of the planet\, and to create a sense of place where all are welcome.
URL:https://fargomom.com/event/red-river-market/2026-09-19/
LOCATION:Broadway Square\, 201 Broadway\, Fargo\, ND
CATEGORIES:Fall Event,Summer Event
END:VEVENT
BEGIN:VEVENT
DTSTART;TZID=America/Chicago:20260926T100000
DTEND;TZID=America/Chicago:20260926T140000
DTSTAMP:20260422T081418
CREATED:20260216T030101Z
LAST-MODIFIED:20260324T015621Z
UID:10037813-1790416800-1790431200@fargomom.com
SUMMARY:Red River Market
DESCRIPTION:Red River Market creates a space for all people to experience the joys of locally grown food. \nRed River Market strives to support local farms and new and emerging food businesses\, to increase access to fresh\, locally grown produce\, to be a good steward of the planet\, and to create a sense of place where all are welcome.
URL:https://fargomom.com/event/red-river-market/2026-09-26/
LOCATION:Broadway Square\, 201 Broadway\, Fargo\, ND
CATEGORIES:Fall Event,Summer Event
END:VEVENT
BEGIN:VEVENT
DTSTART;TZID=America/Chicago:20261003T100000
DTEND;TZID=America/Chicago:20261003T140000
DTSTAMP:20260422T081418
CREATED:20260216T030101Z
LAST-MODIFIED:20260324T015621Z
UID:10037814-1791021600-1791036000@fargomom.com
SUMMARY:Red River Market
DESCRIPTION:Red River Market creates a space for all people to experience the joys of locally grown food. \nRed River Market strives to support local farms and new and emerging food businesses\, to increase access to fresh\, locally grown produce\, to be a good steward of the planet\, and to create a sense of place where all are welcome.
URL:https://fargomom.com/event/red-river-market/2026-10-03/
LOCATION:Broadway Square\, 201 Broadway\, Fargo\, ND
CATEGORIES:Fall Event,Summer Event
END:VEVENT
BEGIN:VEVENT
DTSTART;TZID=America/Chicago:20261010T100000
DTEND;TZID=America/Chicago:20261010T140000
DTSTAMP:20260422T081418
CREATED:20260216T030101Z
LAST-MODIFIED:20260324T015621Z
UID:10037815-1791626400-1791640800@fargomom.com
SUMMARY:Red River Market
DESCRIPTION:Red River Market creates a space for all people to experience the joys of locally grown food. \nRed River Market strives to support local farms and new and emerging food businesses\, to increase access to fresh\, locally grown produce\, to be a good steward of the planet\, and to create a sense of place where all are welcome.
URL:https://fargomom.com/event/red-river-market/2026-10-10/
LOCATION:Broadway Square\, 201 Broadway\, Fargo\, ND
CATEGORIES:Fall Event,Summer Event
END:VEVENT
BEGIN:VEVENT
DTSTART;TZID=America/Chicago:20261017T100000
DTEND;TZID=America/Chicago:20261017T140000
DTSTAMP:20260422T081418
CREATED:20260216T030101Z
LAST-MODIFIED:20260324T015621Z
UID:10037816-1792231200-1792245600@fargomom.com
SUMMARY:Red River Market
DESCRIPTION:Red River Market creates a space for all people to experience the joys of locally grown food. \nRed River Market strives to support local farms and new and emerging food businesses\, to increase access to fresh\, locally grown produce\, to be a good steward of the planet\, and to create a sense of place where all are welcome.
URL:https://fargomom.com/event/red-river-market/2026-10-17/
LOCATION:Broadway Square\, 201 Broadway\, Fargo\, ND
CATEGORIES:Fall Event,Summer Event
END:VEVENT
BEGIN:VEVENT
DTSTART;TZID=America/Chicago:20261024T100000
DTEND;TZID=America/Chicago:20261024T140000
DTSTAMP:20260422T081418
CREATED:20260216T030101Z
LAST-MODIFIED:20260324T015621Z
UID:10037817-1792836000-1792850400@fargomom.com
SUMMARY:Red River Market
DESCRIPTION:Red River Market creates a space for all people to experience the joys of locally grown food. \nRed River Market strives to support local farms and new and emerging food businesses\, to increase access to fresh\, locally grown produce\, to be a good steward of the planet\, and to create a sense of place where all are welcome.
URL:https://fargomom.com/event/red-river-market/2026-10-24/
LOCATION:Broadway Square\, 201 Broadway\, Fargo\, ND
CATEGORIES:Fall Event,Summer Event
END:VEVENT
BEGIN:VEVENT
DTSTART;TZID=America/Chicago:20261031T100000
DTEND;TZID=America/Chicago:20261031T140000
DTSTAMP:20260422T081418
CREATED:20260216T030101Z
LAST-MODIFIED:20260324T015621Z
UID:10037818-1793440800-1793455200@fargomom.com
SUMMARY:Red River Market
DESCRIPTION:Red River Market creates a space for all people to experience the joys of locally grown food. \nRed River Market strives to support local farms and new and emerging food businesses\, to increase access to fresh\, locally grown produce\, to be a good steward of the planet\, and to create a sense of place where all are welcome.
URL:https://fargomom.com/event/red-river-market/2026-10-31/
LOCATION:Broadway Square\, 201 Broadway\, Fargo\, ND
CATEGORIES:Fall Event,Summer Event
END:VEVENT
END:VCALENDAR