BEGIN:VCALENDAR
VERSION:2.0
PRODID:-//Fargo Mom - ECPv6.15.20//NONSGML v1.0//EN
CALSCALE:GREGORIAN
METHOD:PUBLISH
X-WR-CALNAME:Fargo Mom
X-ORIGINAL-URL:https://fargomom.com
X-WR-CALDESC:Events for Fargo Mom
REFRESH-INTERVAL;VALUE=DURATION:PT1H
X-Robots-Tag:noindex
X-PUBLISHED-TTL:PT1H
BEGIN:VTIMEZONE
TZID:America/Chicago
BEGIN:DAYLIGHT
TZOFFSETFROM:-0600
TZOFFSETTO:-0500
TZNAME:CDT
DTSTART:20250309T080000
END:DAYLIGHT
BEGIN:STANDARD
TZOFFSETFROM:-0500
TZOFFSETTO:-0600
TZNAME:CST
DTSTART:20251102T070000
END:STANDARD
BEGIN:DAYLIGHT
TZOFFSETFROM:-0600
TZOFFSETTO:-0500
TZNAME:CDT
DTSTART:20260308T080000
END:DAYLIGHT
BEGIN:STANDARD
TZOFFSETFROM:-0500
TZOFFSETTO:-0600
TZNAME:CST
DTSTART:20261101T070000
END:STANDARD
BEGIN:DAYLIGHT
TZOFFSETFROM:-0600
TZOFFSETTO:-0500
TZNAME:CDT
DTSTART:20270314T080000
END:DAYLIGHT
BEGIN:STANDARD
TZOFFSETFROM:-0500
TZOFFSETTO:-0600
TZNAME:CST
DTSTART:20271107T070000
END:STANDARD
END:VTIMEZONE
BEGIN:VEVENT
DTSTART;TZID=America/Chicago:20260503T120000
DTEND;TZID=America/Chicago:20260503T170000
DTSTAMP:20260425T113655
CREATED:20260423T144654Z
LAST-MODIFIED:20260423T144654Z
UID:10038692-1777809600-1777827600@fargomom.com
SUMMARY:Parade of Homes Spring Edition
DESCRIPTION:The Building Industry Association of the RRV invites you to the Parade of Homes Spring Edition 2026!\nIt’s the first two weekends in May + Mondays and offers a scattered-site tour of newly built homes across six communities.\nDates: May 2-4 and 9-11Hours: Noon – 5 p.m. Sat/Sun and 3 – 7 p.m. Mon\nThe official event magazine will be available free of charge at all Hornbacher’s April 27.\nSince its inception in the fall of 1961\, this community event has been a pillar of our region\, rooted in the vision of local trendsetters in the construction industry. Over the decades\, the Parade has grown into a celebration of craftsmanship and creativity\, reflecting the spirit of home building in our community.\nADMISSIONAdmission is free to most homes. There is a $5 ticket to visit both luxurious featured homes by Hawthorne Custom Homes and Klein Custom Homes: use cash or Venmo to purchase your ticket at either home.\nPARADEFM.COMVisit paradefm.com to see maps plus more. The site is mobile ready for you to tap into driving directions\, photos\, video links\, participant bios and home descriptions. Home listings will be live in mid-April.\nMOTHER’S DAY BINGOBack for the third year\, we’re turning the Parade of Homes Spring Edition into a fun-filled bingo adventure! Since Mother’s Day is during the Parade\, we’ve curated three special giveaway bundles. Read more in the magazine or at paradefm.com!\nTHANK YOU SPONSORS!*Title sponsor: Fargo Glass & Paint Company with Novatech*Development Sponsor: Rivers Edge\, Cub Creek\, Hampton Place*Choice Sponsors: First International Bank and Trust | Forum Communications Printing*Appliance Sponsor: Rigels*Moving Sponsor: Two Men and a Truck*Painting & Drywall Sponsor: Weyer Companies
URL:https://fargomom.com/event/parade-of-homes-spring-edition/2026-05-03/
LOCATION:Fargo/Moorhead
END:VEVENT
BEGIN:VEVENT
DTSTART;TZID=America/Chicago:20260503T120000
DTEND;TZID=America/Chicago:20260503T170000
DTSTAMP:20260425T113655
CREATED:20260423T013600Z
LAST-MODIFIED:20260423T013600Z
UID:10038675-1777809600-1777827600@fargomom.com
SUMMARY:Homes For You. Homes For Them.
DESCRIPTION:Novel Design and Build is partnering with Turtle Mountain Animal Rescue during the 2026 Spring Parade of Homes. On May 2nd and 3rd\, from 12–5 PM\, guests visiting Parade Home #38 located at 6601 Selkirk Dr in South Fargo will have the opportunity to meet adoptable dogs and cats while exploring beautiful new construction and design!
URL:https://fargomom.com/event/homes-for-you-homes-for-them/2026-05-03/
LOCATION:ND
ATTACH;FMTTYPE=image/jpeg:https://fargomom.com/wp-content/uploads/2026/04/Novel-x-TMAR-Facebook-Event.jpg
END:VEVENT
BEGIN:VEVENT
DTSTART;TZID=America/Chicago:20260503T110000
DTEND;TZID=America/Chicago:20260503T140000
DTSTAMP:20260425T113655
CREATED:20260414T015909Z
LAST-MODIFIED:20260414T015909Z
UID:10038478-1777806000-1777816800@fargomom.com
SUMMARY:Sensory Sundays @ Plains Art Museum
DESCRIPTION:First Sunday of the month from 11 AM – 2 PM. Free.\nWe embrace the unique qualities of all who walk through our doors and appreciate that many visitors need to explore the Museum in different ways. For individuals and families who prefer a quiet\, less sensory-stimulating environment\, we offer Sensory Sundays on the first Sunday afternoon of every month. At each event\, loud gallery sounds and strong scents are avoided\, and Art Explorer Bags are available for check-out at the front desk.
URL:https://fargomom.com/event/sensory-sundays-plains-art-museum-2/2026-05-03/
LOCATION:Plains Art Museum
END:VEVENT
BEGIN:VEVENT
DTSTART;TZID=America/Chicago:20260503T110000
DTEND;TZID=America/Chicago:20260503T140000
DTSTAMP:20260425T113655
CREATED:20260203T032407Z
LAST-MODIFIED:20260402T141817Z
UID:10037295-1777806000-1777816800@fargomom.com
SUMMARY:Sensory Sundays @ Plains Art Museum
DESCRIPTION:First Sunday of the month from 11 AM – 2 PM. Free.\nWe embrace the unique qualities of all who walk through our doors and appreciate that many visitors need to explore the Museum in different ways. For individuals and families who prefer a quiet\, less sensory-stimulating environment\, we offer Sensory Sundays on the first Sunday afternoon of every month. At each event\, loud gallery sounds and strong scents are avoided\, and Art Explorer Bags are available for check-out at the front desk.
URL:https://fargomom.com/event/sensory-sundays-plains-art-museum/2026-05-03/
LOCATION:Plains Art Museum
END:VEVENT
BEGIN:VEVENT
DTSTART;TZID=America/Chicago:20260503T110000
DTEND;TZID=America/Chicago:20260503T130000
DTSTAMP:20260425T113655
CREATED:20260306T022958Z
LAST-MODIFIED:20260306T022958Z
UID:10037991-1777806000-1777813200@fargomom.com
SUMMARY:Bubblemania
DESCRIPTION:Get ready for a bubbly good time at Bubblemania Family Fun Day on Sunday\, May 3rd! This exciting event is packed with bubble-filled fun for the whole family. From giant bubbles to bubble games\, kids and adults alike will be amazed by the magic of bubbles in all shapes and sizes.\n: May 4\, 2025: 11:00 AM – 1:00 PM: Essentia Health Plaza at The Lights\nActivities include:Giant Bubbles – Create massive bubbles that will float and soar high into the sky!Bubble Stations – Try your hand at making your own bubbles with a variety of tools and techniques.Bubble Art – Create bubble-themed crafts to take home.Bubble Dance Party – Groove to some fun tunes as we dance with bubbles floating around!And Much More!!\nThis family-friendly event is the perfect way to spend the afternoon with loved ones while enjoying the wonders of bubbles. Be sure to bring your cameras – you won’t want to miss the photo ops!\nDon’t forget:Wear clothes that you don’t mind getting a little wet!Snacks and refreshments will be available for purchase.\nCome join the bubble fun\, and make Sunday\, May 3rd a day to remember for the whole family! We can’t wait to see you there!
URL:https://fargomom.com/event/bubblemania/
LOCATION:The Lights at Sheyenne
END:VEVENT
BEGIN:VEVENT
DTSTART;TZID=America/Chicago:20260503T100000
DTEND;TZID=America/Chicago:20260503T110000
DTSTAMP:20260425T113655
CREATED:20260417T020402Z
LAST-MODIFIED:20260417T020402Z
UID:10038598-1777802400-1777806000@fargomom.com
SUMMARY:Little Leapers @ Skyzone
DESCRIPTION:PLAY TIME WITH A PURPOSE\nLittle Leapers is a fun\, high-energy play adventure created for parents and little ones to enjoy together. \nYou’ll love watching your child bounce\, climb and explore in a safe environment while interacting with similar age children and learning about sharing\, teamwork\, and other important social skills. \nBond\, make memories and watch your Little Leaper thrive. \nTickets: $12 \nAdults jump FREE! *SkySocks not included \n*For ages 7 & under
URL:https://fargomom.com/event/little-leapers-skyzone/2026-05-03/
LOCATION:SkyZone
END:VEVENT
BEGIN:VEVENT
DTSTART;TZID=America/Chicago:20260502T200000
DTEND;TZID=America/Chicago:20260502T220000
DTSTAMP:20260425T113655
CREATED:20260417T020116Z
LAST-MODIFIED:20260417T020116Z
UID:10038589-1777752000-1777759200@fargomom.com
SUMMARY:Glow Jump @ Skyzone
DESCRIPTION:Light Up The Night\nWe’re different after dark. Lasers\, music and blacklight transform the whole park into a crazy jumping dance club. Waivers are required for all persons entering the park during Glow. \nTickets: $30 \n*Ages 8+
URL:https://fargomom.com/event/glow-jump-skyzone/2026-05-02/
LOCATION:SkyZone
END:VEVENT
BEGIN:VEVENT
DTSTART;TZID=America/Chicago:20260502T130000
DTEND;TZID=America/Chicago:20260502T150000
DTSTAMP:20260425T113655
CREATED:20260421T153211Z
LAST-MODIFIED:20260421T153211Z
UID:10038659-1777726800-1777734000@fargomom.com
SUMMARY:Teen Volunteering
DESCRIPTION:Come\, volunteer at the Fargo Public Library! Help the library\, see behind the scenes\, meet new people\, and have fun while doing it!\nSessions are the first Saturday of each month from September through May; pre-registration is required for each session.\nPlease Note: Participants must be 12 to 18 and need a signed permission slip from a parent or guardian. \n\nRegistration Required / Teens
URL:https://fargomom.com/event/teen-volunteering/
LOCATION:Fargo Public Library (Main)
END:VEVENT
BEGIN:VEVENT
DTSTART;TZID=America/Chicago:20260502T120000
DTEND;TZID=America/Chicago:20260502T170000
DTSTAMP:20260425T113655
CREATED:20260423T144654Z
LAST-MODIFIED:20260423T144654Z
UID:10038691-1777723200-1777741200@fargomom.com
SUMMARY:Parade of Homes Spring Edition
DESCRIPTION:The Building Industry Association of the RRV invites you to the Parade of Homes Spring Edition 2026!\nIt’s the first two weekends in May + Mondays and offers a scattered-site tour of newly built homes across six communities.\nDates: May 2-4 and 9-11Hours: Noon – 5 p.m. Sat/Sun and 3 – 7 p.m. Mon\nThe official event magazine will be available free of charge at all Hornbacher’s April 27.\nSince its inception in the fall of 1961\, this community event has been a pillar of our region\, rooted in the vision of local trendsetters in the construction industry. Over the decades\, the Parade has grown into a celebration of craftsmanship and creativity\, reflecting the spirit of home building in our community.\nADMISSIONAdmission is free to most homes. There is a $5 ticket to visit both luxurious featured homes by Hawthorne Custom Homes and Klein Custom Homes: use cash or Venmo to purchase your ticket at either home.\nPARADEFM.COMVisit paradefm.com to see maps plus more. The site is mobile ready for you to tap into driving directions\, photos\, video links\, participant bios and home descriptions. Home listings will be live in mid-April.\nMOTHER’S DAY BINGOBack for the third year\, we’re turning the Parade of Homes Spring Edition into a fun-filled bingo adventure! Since Mother’s Day is during the Parade\, we’ve curated three special giveaway bundles. Read more in the magazine or at paradefm.com!\nTHANK YOU SPONSORS!*Title sponsor: Fargo Glass & Paint Company with Novatech*Development Sponsor: Rivers Edge\, Cub Creek\, Hampton Place*Choice Sponsors: First International Bank and Trust | Forum Communications Printing*Appliance Sponsor: Rigels*Moving Sponsor: Two Men and a Truck*Painting & Drywall Sponsor: Weyer Companies
URL:https://fargomom.com/event/parade-of-homes-spring-edition/2026-05-02/
LOCATION:Fargo/Moorhead
END:VEVENT
BEGIN:VEVENT
DTSTART;TZID=America/Chicago:20260502T120000
DTEND;TZID=America/Chicago:20260502T170000
DTSTAMP:20260425T113655
CREATED:20260423T013600Z
LAST-MODIFIED:20260423T013600Z
UID:10038674-1777723200-1777741200@fargomom.com
SUMMARY:Homes For You. Homes For Them.
DESCRIPTION:Novel Design and Build is partnering with Turtle Mountain Animal Rescue during the 2026 Spring Parade of Homes. On May 2nd and 3rd\, from 12–5 PM\, guests visiting Parade Home #38 located at 6601 Selkirk Dr in South Fargo will have the opportunity to meet adoptable dogs and cats while exploring beautiful new construction and design!
URL:https://fargomom.com/event/homes-for-you-homes-for-them/2026-05-02/
LOCATION:ND
ATTACH;FMTTYPE=image/jpeg:https://fargomom.com/wp-content/uploads/2026/04/Novel-x-TMAR-Facebook-Event.jpg
END:VEVENT
BEGIN:VEVENT
DTSTART;TZID=America/Chicago:20260502T120000
DTEND;TZID=America/Chicago:20260502T160000
DTSTAMP:20260425T113655
CREATED:20260219T170247Z
LAST-MODIFIED:20260219T170247Z
UID:10037854-1777723200-1777737600@fargomom.com
SUMMARY:Open Hours at MSUM Oceanarium
DESCRIPTION:Looking for a family-friendly weekend activity? Want to step out of the cold and into an oceanic world? Then look no further than our Saturday open hours!!!\nJoin us in the Lower Level of Langseth Hall and see our over 50 different species of organisms that make up our oceans!\n\nWhen: Saturdays from 12pm to 4pmWhere: The Lower Level of Langseth Hall\n$5 per person\, cash or check only at door. Tickets can be purchased ahead of time at the MSUM box office. Students a part of the Metro College Alliance get in free with valid ID.\nFor those needing an accessible entrance\, an elevator is available to bring you to the lower level.
URL:https://fargomom.com/event/open-hours-at-msum-oceanarium/2026-05-02/
LOCATION:MSUM Oceanarium
END:VEVENT
BEGIN:VEVENT
DTSTART;TZID=America/Chicago:20260502T110000
DTEND;TZID=America/Chicago:20260502T130000
DTSTAMP:20260425T113655
CREATED:20260418T021543Z
LAST-MODIFIED:20260418T021543Z
UID:10038621-1777719600-1777726800@fargomom.com
SUMMARY:Armour Trail Grand Opening
DESCRIPTION:Join us for the Grand Opening of Armour Trail at Armour Park in West Fargo!West Fargo Parks & FMTB will share some words and then we want folks to RIDE and help burn in the trail!\nWe’ll have Sandy’s Donuts and Thunder Coffee on hand to enjoy while we ride\, visit and celebrate.Then we absolutely suggest grabbing lunch afterwards in downtown West Fargo to support the community 
URL:https://fargomom.com/event/armour-trail-grand-opening/
LOCATION:Armour Park\, 2nd Ave NW & 5th St NW\, West Fargo\, ND\, 58078\, United States
END:VEVENT
BEGIN:VEVENT
DTSTART;TZID=America/Chicago:20260502T110000
DTEND;TZID=America/Chicago:20260502T130000
DTSTAMP:20260425T113655
CREATED:20260413T014441Z
LAST-MODIFIED:20260413T014441Z
UID:10038411-1777719600-1777726800@fargomom.com
SUMMARY:Easter Egg Scramble - new date
DESCRIPTION:POSTPONED: to Saturday\, May 2nd.\nThis family event features an\n• Easter Egg Hunt\,\n• Bounce Houses\,\n• Petting Zoo (Trowbridge Creek Zoo)\,\n• Face Painting (The Painted Turtle)\,\n• Barrel Train Rides\,\n• Coloring Contest\,\n• Roasted peeps\,\n• Climbing Wall\,\n• Concessions\,\n• Easter BINGO\, Cake Walk\, Games + more!\nThis event is free and open to the public.\nFirst 700 kids get a coupon for a free meal from Texas Roadhouse! Thanks to our friends at Texas Roadhouse for their generosity.
URL:https://fargomom.com/event/easter-egg-scramble-new-date/
LOCATION:Atonement Lutheran Church\, 4601 S University Dr\, Fargo\, North Dakota\, 58104
ATTACH;FMTTYPE=image/jpeg:https://fargomom.com/wp-content/uploads/2026/04/egg-scramble-newdate.jpg
END:VEVENT
BEGIN:VEVENT
DTSTART;TZID=America/Chicago:20260502T110000
DTEND;TZID=America/Chicago:20260502T130000
DTSTAMP:20260425T113655
CREATED:20260309T021249Z
LAST-MODIFIED:20260406T154433Z
UID:10038023-1777719600-1777726800@fargomom.com
SUMMARY:RESCHEDULE! Easter Egg Scramble at Atonement Lutheran-Fargo
DESCRIPTION:This event was originally scheduled for April 4th\, and moved to May 2nd.\n\nThis family event features anEaster Egg Hunt\,Bounce Houses\,Petting Zoo (Trowbridge Creek Zoo)\, Face Painting (The Painted Turtle)\,Barrel Train Rides\,Coloring Contest\,Roasted peeps\,Climbing Wall\,Concessions\,Plus more!\nThis event is free and open to the public.
URL:https://fargomom.com/event/easter-egg-scramble-at-atonement-lutheran-fargo/
LOCATION:Atonement Lutheran Church\, 4601 S University Dr\, Fargo\, North Dakota\, 58104
END:VEVENT
BEGIN:VEVENT
DTSTART;TZID=America/Chicago:20260502T103000
DTEND;TZID=America/Chicago:20260502T113000
DTSTAMP:20260425T113655
CREATED:20260421T153055Z
LAST-MODIFIED:20260421T153055Z
UID:10038658-1777717800-1777721400@fargomom.com
SUMMARY:Read to Comet
DESCRIPTION:Comet the mini-horse is returning to the Dr. James Carlson Library on May 2 to lend an ear! Kids in Kindergarten through 6th grade are invited to read to Comet and sharpen reading skills during a 15-minute session. Sessions begin at 10:30 a.m. and last through 11:30 a.m. Bring your own books to read or choose from a selection of library books. Space is limited. To register you must call the Children’s Services desk at 701.241.1495. \n\nRegistration Required / School Age
URL:https://fargomom.com/event/read-to-comet/
LOCATION:Fargo Public Library – Carlson
END:VEVENT
BEGIN:VEVENT
DTSTART;TZID=America/Chicago:20260502T103000
DTEND;TZID=America/Chicago:20260502T113000
DTSTAMP:20260425T113655
CREATED:20260413T141852Z
LAST-MODIFIED:20260413T141852Z
UID:10038433-1777717800-1777721400@fargomom.com
SUMMARY:Saturday STEM @ WF Library
DESCRIPTION:Kids of all ages can practice science\, technology\, engineering\, and math skills at fun stations.\n\n\n\nHeld the first Saturday of every month at the West Fargo Public Library\, these mornings are all about practicing science\, technology\, engineering\, math\, and creative problem-solving at our various fun stations. These events are FREE and open to the public. Kids of all ages are welcome\, but most challenges are best suited for elementary-aged youth.
URL:https://fargomom.com/event/saturday-stem-wf-library/
LOCATION:West Fargo Public Library
END:VEVENT
BEGIN:VEVENT
DTSTART;TZID=America/Chicago:20260502T100000
DTEND;TZID=America/Chicago:20260502T120000
DTSTAMP:20260425T113655
CREATED:20260421T152938Z
LAST-MODIFIED:20260421T152938Z
UID:10038657-1777716000-1777723200@fargomom.com
SUMMARY:Mind Mysteries LIVE!
DESCRIPTION:Stop by between 10 a.m. and 12 p.m. and join Dr. Ben Balas from NDSU Psychology for Mind Mysteries LIVE! We’ll have an all-new experiment to help us learn how kids’ brains help them understand what they see. Whether you’ve already taken some Mind Mysteries home or want to try one out for the first time\, come join us to make your mark for science! Mind Mysteries LIVE is for school-age kids in grades 1 through 6. \nFor more information on this or any other library program\, please call Children’s Services at 701.241.1495 or send Children’s Services an email. \n\nNo Registration Required / STEM / School Age
URL:https://fargomom.com/event/mind-mysteries-live/
LOCATION:Fargo Public Library (Main)
END:VEVENT
BEGIN:VEVENT
DTSTART;TZID=America/Chicago:20260502T100000
DTEND;TZID=America/Chicago:20260502T120000
DTSTAMP:20260425T113655
CREATED:20260314T014603Z
LAST-MODIFIED:20260314T014603Z
UID:10038077-1777716000-1777723200@fargomom.com
SUMMARY:KIDFEST 2026
DESCRIPTION:Join us for our annual KIDSFEST event! We will have Harvest Hope Farm Petting Zoo\, TONS of kid’s activities and giveaways\, information for caregivers\, a photo booth\, many door prizes\, and an incredible amount of FUN!
URL:https://fargomom.com/event/kidfest-2026/
LOCATION:Moorhead Public Library\, 450 Center Ave\, Moorhead\, MN\, 56560
END:VEVENT
BEGIN:VEVENT
DTSTART;TZID=America/Chicago:20260502T100000
DTEND;TZID=America/Chicago:20260502T110000
DTSTAMP:20260425T113655
CREATED:20260421T152808Z
LAST-MODIFIED:20260421T152808Z
UID:10038656-1777716000-1777719600@fargomom.com
SUMMARY:Kindergarten Success Storytime
DESCRIPTION:Library staff will share tips you can use to instill a love of reading in your child. These are parent/child storytimes geared for your child’s success; therefore\, we ask one adult per child to keep the learning to a maximum. This event series will be held at the Main Library and is most appropriate for children ages 3 to 5. Activities will follow each storytime and all children will receive a FREE book! \nFor more information about this or any other Fargo Public Library program\, please call Children’s Services at 701.241.1495 or email Children’s Services.
URL:https://fargomom.com/event/kindergarten-success-storytime/
LOCATION:Fargo Public Library (Main)
END:VEVENT
BEGIN:VEVENT
DTSTART;TZID=America/Chicago:20260502T090000
DTEND;TZID=America/Chicago:20260502T180000
DTSTAMP:20260425T113655
CREATED:20260421T152613Z
LAST-MODIFIED:20260421T152613Z
UID:10038655-1777712400-1777744800@fargomom.com
SUMMARY:Free Comic Book Day
DESCRIPTION:For more information about this program\, call Children’s Services at 701.241.1495 or send Children’s Services an email.
URL:https://fargomom.com/event/free-comic-book-day/
LOCATION:Fargo Public Library (Main)
END:VEVENT
BEGIN:VEVENT
DTSTART;TZID=America/Chicago:20260502T090000
DTEND;TZID=America/Chicago:20260502T160000
DTSTAMP:20260425T113655
CREATED:20260313T020937Z
LAST-MODIFIED:20260313T020937Z
UID:10038061-1777712400-1777737600@fargomom.com
SUMMARY:The Kindled Seed Mercantile\, LLC @ Junk'n Market Days
DESCRIPTION:Made. Restyled. Found. Is what we are brining this spring to Junk’n Market Days! I will be bringing hand poured soy candles\, goat milk soaps\, tallow moisturizer\, Everlasting Floral Arrangements & Bouquets and repurposed goods!\nFollow the events and our page for sneak peaks and giveaway’s!
URL:https://fargomom.com/event/the-kindled-seed-mercantile-llc-junkn-market-days/
LOCATION:Veteran’s Memorial Arena\, 1201 7th Ave E\, West Fargo\, ND
END:VEVENT
BEGIN:VEVENT
DTSTART;TZID=America/Chicago:20260502T090000
DTEND;TZID=America/Chicago:20260502T160000
DTSTAMP:20260425T113655
CREATED:20251121T031325Z
LAST-MODIFIED:20251121T031325Z
UID:10036095-1777712400-1777737600@fargomom.com
SUMMARY:Junkin' Market Days Spring Event-Fargo
DESCRIPTION:Shop unique & one-of-a kind product from local small businesses in one location:shabby chic home decorrustic furniturejewelryboutique clothingbath/body productsgourmet foodcandlesvintageantiques\nThe event is held at the Veterans Memorial Arena on Friday\, May 1st from 4-7pm & Saturday\, May 2nd from 9-4 pm.Admission is $5
URL:https://fargomom.com/event/junkin-market-days-spring-event-fargo/2026-05-02/
LOCATION:Veteran’s Memorial Arena\, 1201 7th Ave E\, West Fargo\, ND
END:VEVENT
BEGIN:VEVENT
DTSTART;TZID=America/Chicago:20260502T090000
DTEND;TZID=America/Chicago:20260502T150000
DTSTAMP:20260425T113655
CREATED:20260424T015904Z
LAST-MODIFIED:20260424T015904Z
UID:10038701-1777712400-1777734000@fargomom.com
SUMMARY:NCC's Swedish Death Cleaning Rummage Sale
DESCRIPTION:It’s that time of year again! Get ready for the Nordic Culture Clubs’ 3rd Annual Swedish Death Cleaning Rummage Sale!\nThis year\, it will be hosted at Faith United Methodist Church\, located on 19th Ave North\, in Fargo.Come for the deals & treasures\, stay for FIKA!\nAll proceeds will benefit this year’s Scandinavian Festival. Thank you for your support!\n*No early entry. Cash & Card accepted. All sales final.
URL:https://fargomom.com/event/nccs-swedish-death-cleaning-rummage-sale/
LOCATION:Faith United Methodist Church\, 909 19th Avenue North\, Fargo\, ND\, 58102\, United States
END:VEVENT
BEGIN:VEVENT
DTSTART;TZID=America/Chicago:20260502T090000
DTEND;TZID=America/Chicago:20260502T100000
DTSTAMP:20260425T113655
CREATED:20260417T020531Z
LAST-MODIFIED:20260417T020531Z
UID:10038611-1777712400-1777716000@fargomom.com
SUMMARY:Little Leapers @ Skyzone
DESCRIPTION:PLAY TIME WITH A PURPOSE\nLittle Leapers is a fun\, high-energy play adventure created for parents and little ones to enjoy together. \nYou’ll love watching your child bounce\, climb and explore in a safe environment while interacting with similar age children and learning about sharing\, teamwork\, and other important social skills. \nBond\, make memories and watch your Little Leaper thrive. \nTickets: $12 \nAdults jump FREE! *SkySocks not included \n*For ages 7 & under
URL:https://fargomom.com/event/little-leapers-skyzone-2/2026-05-02/
LOCATION:SkyZone
END:VEVENT
BEGIN:VEVENT
DTSTART;TZID=America/Chicago:20260502T083000
DTEND;TZID=America/Chicago:20260502T160000
DTSTAMP:20260425T113655
CREATED:20260319T135308Z
LAST-MODIFIED:20260319T135308Z
UID:10038254-1777710600-1777737600@fargomom.com
SUMMARY:Red Cross Babysitting Course
DESCRIPTION:This hands-on course will teach you to be a professional\, reliable babysitter while having safety as your first priority! You will learn how to recognize and respond to emergencies\, choose age-appropriate activities\, and recognize and handle a range of behaviors. If participants pass the written pediatric first aid and CPR exam\, they will receive certification through the American Red Cross valid for 2 years. Babysitting Certification valid for 10 years. Participants are to pack their own lunch.\n Class Details:Saturday\, May 2 from 8:30 am-4 pmAges 11-14 | $80 Registration FeeLocated at the Parks & Recreation Office1300 15 Ave N\, Moorhead\, MN 56560 Register online at moorheadparks.activityreg.com\nPre-registration is required. For more information and to view our online interactive brochure\, visit moorheadparks.com.
URL:https://fargomom.com/event/red-cross-babysitting-course/
LOCATION:Moorhead Parks
END:VEVENT
BEGIN:VEVENT
DTSTART;TZID=America/Chicago:20260502T083000
DTEND;TZID=America/Chicago:20260502T103000
DTSTAMP:20260425T113655
CREATED:20260319T135949Z
LAST-MODIFIED:20260319T135949Z
UID:10038256-1777710600-1777717800@fargomom.com
SUMMARY:Sandy's Donut Run
DESCRIPTION:The Sandy’s Donut Run is BACK for 2026! \nDate: Saturday\, May 2nd\, 2026 Time: Race Starts at 8:30 AM Location: The Lights in West Fargo  3150 Sheyenne St\, West Fargo\, ND 58078\n*This is an untimed FUN RUN event **Online registration will close at 11:00 PM on Thursday\, April 30th (or when the event reaches full capacity / SOLD OUT!) \nHosted at The Lights\, this event delivers the same fun atmosphere and delicious rewards you’ve come to know and love from the Sandy’s Donut Run! \nWhether you’re running \, walking \, or doing a little of both\, this event is all about community \, fun \, and of course… DONUTS \nRegistration Includes: Custom-designed event shirt Unique finisher medal Post-run DONUTS & COFFEE \nMark your calendars \, grab your running buddies \, and get ready for one of the sweetest runs of the year! 
URL:https://fargomom.com/event/sandys-donut-run/
LOCATION:The Lights at Sheyenne
END:VEVENT
BEGIN:VEVENT
DTSTART;TZID=America/Chicago:20260502T080000
DTEND;TZID=America/Chicago:20260502T150000
DTSTAMP:20260425T113655
CREATED:20260129T023727Z
LAST-MODIFIED:20260129T023727Z
UID:10037269-1777708800-1777734000@fargomom.com
SUMMARY:Third Annual Deer Creek Community Rummage Sale
DESCRIPTION:3rd Annual Rummage Sale Event!!70+ rummage sales in one walkable community in South Fargo\,ND!!\nFood trucks and the best lemonade stands ran by the cutest kiddos will also be in full force!!\nMore details to come but save the date now!!
URL:https://fargomom.com/event/third-annual-deer-creek-community-rummage-sale/
LOCATION:Deer Creek\, 6415 59th Ave S\, Fargo\, ND\, 58104
END:VEVENT
BEGIN:VEVENT
DTSTART;TZID=America/Chicago:20260501T200000
DTEND;TZID=America/Chicago:20260501T220000
DTSTAMP:20260425T113655
CREATED:20260423T145333Z
LAST-MODIFIED:20260423T145333Z
UID:10038697-1777665600-1777672800@fargomom.com
SUMMARY:Movie After Dark - Happy Gilmore
DESCRIPTION: Movie After Dark \nJoin us May 1 at 8:00 PM at Essentia Health Plaza at The Lights for Movie After Dark\, featuring Happy Gilmore \nBring a lawn chair  or blanket  and settle in for an outdoor movie night under the sky . Arrive a little early  to choose your spot and get comfortable before the movie begins.\n Popcorn will be available at no cost while supplies last.
URL:https://fargomom.com/event/movie-after-dark-happy-gilmore/
LOCATION:The Lights at Sheyenne
END:VEVENT
BEGIN:VEVENT
DTSTART;TZID=America/Chicago:20260501T200000
DTEND;TZID=America/Chicago:20260501T220000
DTSTAMP:20260425T113655
CREATED:20260417T020116Z
LAST-MODIFIED:20260417T020116Z
UID:10038588-1777665600-1777672800@fargomom.com
SUMMARY:Glow Jump @ Skyzone
DESCRIPTION:Light Up The Night\nWe’re different after dark. Lasers\, music and blacklight transform the whole park into a crazy jumping dance club. Waivers are required for all persons entering the park during Glow. \nTickets: $30 \n*Ages 8+
URL:https://fargomom.com/event/glow-jump-skyzone/2026-05-01/
LOCATION:SkyZone
END:VEVENT
BEGIN:VEVENT
DTSTART;TZID=America/Chicago:20260501T164500
DTEND;TZID=America/Chicago:20260501T194500
DTSTAMP:20260425T113655
CREATED:20260416T015057Z
LAST-MODIFIED:20260416T015057Z
UID:10038505-1777653900-1777664700@fargomom.com
SUMMARY:Parent’s Night Out | Family Wellness
DESCRIPTION:Friday\, May 1 | 4:45PM-7:45PM \n\nNeed a night out? Drop your children off at Family Wellness for a date night or just a night to yourself! Children will enjoy some supervised play\, a holiday/seasonal themed craft\, and plenty of smiles while you enjoy your evening. Pre-registration is required and space is limited. Sign up by noon the day prior to the event. Parent’s Night Out is located in Childcare at Family Wellness for ages 2 weeks to 9 years. Please bring your own diapers and peanut free snacks. \nLOCATION | Childcare \n\n\nAge Group: 2 weeks – 9 years \nMember Fee: $15.00 \nNon-Member Fee: $20.00
URL:https://fargomom.com/event/parents-night-out-family-wellness/
LOCATION:Family Wellness
END:VEVENT
END:VCALENDAR